Workbook
Name del: [1]공사현황!$B$2:$B$8,[1]공사현황!$B$11:$G$14
Name fhigr: [0]!BlankMacro1
Name fhigr: [0]!BlankMacro1
Name fhigr: [0]!BlankMacro1
Name FHIGR1: [0]!BlankMacro1
Name FHIGR1: [0]!BlankMacro1
Name FHIGR1: [0]!BlankMacro1
Name han_code: [3]!han_code
Name han_code: [3]!han_code
Name han_code: [3]!han_code
Name ID: #REF!,#REF!
Name ID: #REF!,#REF!
Name ID: #REF!,#REF!
Name Macro10: [4]!Macro10
Name Macro10: [4]!Macro10
Name Macro10: [4]!Macro10
Name Macro12: [4]!Macro12
Name Macro12: [4]!Macro12
Name Macro12: [4]!Macro12
Name Macro13: [4]!Macro13
Name Macro13: [4]!Macro13
Name Macro13: [4]!Macro13
Name Macro14: [4]!Macro14
Name Macro14: [4]!Macro14
Name Macro14: [4]!Macro14
Name Macro5: [4]!Macro5
Name Macro5: [4]!Macro5
Name Macro5: [4]!Macro5
Name Macro6: [4]!Macro6
Name Macro6: [4]!Macro6
Name Macro6: [4]!Macro6
Name Macro7: [4]!Macro7
Name Macro7: [4]!Macro7
Name Macro7: [4]!Macro7
Name Macro8: [4]!Macro8
Name Macro8: [4]!Macro8
Name Macro8: [4]!Macro8
Name Macro9: [4]!Macro9
Name Macro9: [4]!Macro9
Name Macro9: [4]!Macro9
Name MONEY: #REF!,#REF!
Name MONEY: #REF!,#REF!
Name MONEY: #REF!,#REF!
Name 관급: #REF!,#REF!,#REF!
Name 관급: #REF!,#REF!,#REF!
Name 관급: #REF!,#REF!,#REF!
Name 단가비교표: #REF!,#REF!
Name 단가비교표: #REF!,#REF!
Name 단가비교표: #REF!,#REF!
Name ㄸㄱ구믇261368274: #REF!
Name ㄸㄱ구믇261368274: #REF!
Name ㄸㄱ구믇261368274: #REF!
Name ㄸㄱ구믇905729829: #REF!
Name ㄸㄱ구믇905729829: #REF!
Name ㄸㄱ구믇905729829: #REF!
Name 류인숙1: [9]!han_code
Name 류인숙1: [9]!han_code
Name 류인숙1: [9]!han_code
Name 매크로11: [10]!매크로11
Name 매크로11: [10]!매크로11

Sheet ECSYSTEM

Sheet 원가
A1: Ⅳ. 용역원가계산서
A3: □ 과업명 : 지역혁신 선도기업 100 비전선포식 | J3: 단위 : 원
C4: 구 분 | E4: 금 액 | G4: 구성비(%) | I4: 비 고
A5: 비 목
A6: 인 건 비 | C6: 책임연구원 | E6: =인집!D7 -> 0
C7: 연구원 | E7: =인집!D8 -> 0
C8: 연구보조원 | E8: =인집!D9 -> 0
C9: 소 계 | E9: =SUM(E6:E8) -> 0 | G9: =ROUND(E9/$E$22*100,1) -> #REF! | I9: =인집!A1&인집!A2&" 참조" -> < 표 : 1 > 인건비집계표 참조
A10: 경 비 | C10: =경비!B7 -> 여비 | E10: =경비!D7 -> 0
C11: =경비!B8 -> 유인물비 | E11: =경비!D8 -> 0
C12: =경비!B9 -> 연구용재료비 | E12: =경비!D9 -> 0
C13: =경비!B10 -> 교통통신비 | E13: =경비!D10 -> 0
C14: =경비!B11 -> 회의비 | E14: =경비!D11 -> 0
C15: =경비!B12 -> 전산처리비 | E15: =경비!D12 -> 0
C16: =경비!B13 -> 행사운영비 | E16: =경비!D13 -> 0
C17: =경비!B14 -> 행사홍보비 | E17: =경비!D14 -> 0
C18: 소 계 | E18: =SUM(E10:E17) -> 0 | G18: =ROUND(E18/$E$22*100,1) -> #REF! | I18: =경비!A1&경비!A2&" 참조" -> < 표 : 7 > 경비집계표 참조
A19: 순용역원가 | E19: =E9+E18 -> 0 | G19: =ROUND(E19/$E$22*100,1) -> #REF! | I19: 인건비＋경비
A20: 일반관리비 (8%) | E20: =TRUNC(E19*K20%,0) -> #REF! | G20: =ROUND(E20/$E$22*100,1) -> #REF! | I20: ="순용역원가×"&K20&"%" -> #REF! | K20: =#REF! -> #REF!
A21: ="이 윤("&K21&"%)" -> 이 윤(10%) | E21: =TRUNC(SUM(E19:E20)*K21%,0) -> #REF! | G21: =ROUND(E21/$E$22*100,1) -> #REF! | I21: ="(순용역원가＋일.관)×"&K21&"%" -> (순용역원가＋일.관)×10% | K21: 10
A22: 총원가 | E22: =SUM(E19:E21) -> #REF! | G22: =ROUND(E22/$E$22*100,1) -> #REF! | I22: 순용역원가＋일.관＋이윤
A23: 부가가치세(10%) | E23: =TRUNC(E22*10%,0) -> #REF! | I23: 총원가×10%
A24: 합계 | E24: =TRUNC(SUM(E22:E23),-3) -> #REF! | I24: 총원가＋부가가치세, 천단위미만절사

Sheet 인집
A1: < 표 : 1 >
A2: 인건비집계표
A4: =원가!$A$3 -> □ 과업명 : 지역혁신 선도기업 100 비전선포식 | G4: 단위 : 원
A5: 직종명 | D5: 금액 | F5: 비고
B7: 책임연구원 | D7: =직접노무비!G88 -> 0
B8: 연구원 | D8: =직접노무비!J88 -> 0
B9: 연구보조원 | D9: =직접노무비!M88 -> 0
B11: 계 | D11: =SUM(D6:D10) -> 0
A12: ="주) 금액 : "&직접노무비!A1&직접노무비!A2&" 참조" -> 주) 금액 : < 표 : 2 > 인건비산출표 참조

Sheet 직접노무비
A1: < 표 : 2 >
A2: 인건비산출표
A4: =원가!$A$3 -> □ 과업명 : 지역혁신 선도기업 100 비전선포식 | N4: 단위 : 원
A5: 순번 | C5: 업 무 내 용 | E5: 책임연구원 | H5: 연구원 | K5: 연구보조원 | N5: 합 계
E6: 노무 공수 | F6: M/D당 임율 | G6: 금 액 | H6: 노무 공수 | I6: M/D당 임율 | J6: 금 액 | K6: 노무 공수 | L6: M/D당 임율 | M6: 금 액
E7: 주 1) | F7: 주 2) | H7: 주 1) | I7: 주 2) | K7: 주 1) | L7: 주 2)
A8: =노무공수!A9 -> ▶ | B8: =노무공수!B9 -> 0 | C8: =노무공수!C9 -> 지역혁신 선도기업 100 비전선포식 | E8: =+노무공수!G9 -> 13.2 | G8: =IF(A8>0,TRUNC(E8*F8,),"") -> 0 | H8: =+노무공수!J9 -> 24.2 | J8: =IF(A8>0,TRUNC(H8*I8,),"") -> 0 | K8: =+노무공수!M9 -> 26.4 | M8: =IF(A8>0,TRUNC(K8*L8,),"") -> 0 | N8: =IF(A8>0,(G8+J8+M8),"") -> 0
A9: =노무공수!A10 -> 1 | B9: =노무공수!B10 -> 0 | C9: =노무공수!C10 -> 총괄사항
A10: =노무공수!A11 -> 0 | B10: =노무공수!B11 -> 1) | C10: =노무공수!C11 -> 비전선포식 기획 및 운영방안 제시
A11: =노무공수!A12 -> 0 | B11: =노무공수!B12 -> 0 | C11: =노무공수!C12 -> - 비전선포식 전체 컨셉 및 개최 방향 제시
A12: =노무공수!A13 -> 0 | B12: =노무공수!B13 -> 0 | C12: =노무공수!C13 -> - 비전선포식 세부 프로그램 등 기획 및 운영방안 제시
A13: =노무공수!A14 -> 0 | B13: =노무공수!B14 -> 0 | C13: =노무공수!C14 -> - 운영 매뉴얼, 시나리오 등 제시
A14: =노무공수!A15 -> 0 | B14: =노무공수!B15 -> 2) | C14: =노무공수!C15 -> 주최 및 전문기관의 비전선포식 기획 및 준비 업무 지원
A15: =노무공수!A16 -> 0 | B15: =노무공수!B16 -> 0 | C15: =노무공수!C16 -> - 보고자료 작성 및 각종 기획 관련 회의 참석‧지원
A16: =노무공수!A17 -> 0 | B16: =노무공수!B17 -> 0 | C16: =노무공수!C17 -> - 비전선포식 준비의 효율성 제고를 위한 전담인력 배정
A17: =노무공수!A18 -> 0 | B17: =노무공수!B18 -> 3) | C17: =노무공수!C18 -> 비전선포식 참가자 관리, 기념품 제작 배포
A18: =노무공수!A19 -> 0 | B18: =노무공수!B19 -> 0 | C18: =노무공수!C19 -> - 참가자 초청․관리(300인 규모) 및 현장 리셉션 운영
A19: =노무공수!A20 -> 0 | B19: =노무공수!B20 -> 0 | C19: =노무공수!C20 -> - 참가자 식‧음료 제공, 상시 다과 제공
A20: =노무공수!A21 -> 0 | B20: =노무공수!B21 -> 0 | C20: =노무공수!C21 -> - 참가자용 기념품 제작‧배포
... A24: =노무공수!A25 -> 0 | B24: =노무공수!B25 -> 0 | C24: =노무공수!C25 -> - 행사장 조성, 시설물·조명 설치 및 운영, 행사장 내 안전
A25: =노무공수!A29 -> 0 | B25: =노무공수!B29 -> 0 | C25: =노무공수!C29 -> 관리(재난, 코로나 19 대비 등)
A26: ="주 1) 노무공수 : "&노무공수!$A$1&노무공수!$A$2&" 참조" -> 주 1) 노무공수 : < 표 : 3 > 노무공수산출표 참조
A27: =" 2) M/D당임율 : "&#REF!&#REF!&" 참조" -> #REF!
A28: =노무공수!A30 -> 0 | B28: =노무공수!B30 -> 5) | C28: =노무공수!C30 -> 현장제작물 ⃰ 제작 및 설치
A29: =노무공수!A31 -> 0 | B29: =노무공수!B31 -> 0 | C29: =노무공수!C31 -> * 사례전시제작물, 행사장 배치도, 현수막, 통천, 행사 안내
A30: =노무공수!A32 -> 0 | B30: =노무공수!B32 -> 0 | C30: =노무공수!C32 -> 물, 행사장 주변 홍보물 등
A31: =노무공수!A33 -> 0 | B31: =노무공수!B33 -> 6) | C31: =노무공수!C33 -> 선도기업 육성사업 및 비전선포식 등 홍보일체
A32: =노무공수!A34 -> 0 | B32: =노무공수!B34 -> 7) | C32: =노무공수!C34 -> 비전선포식 종료 후 업무관련사항 정리 및 전문기관 결과보고
A33: =노무공수!A35 -> 0 | B33: =노무공수!B35 -> 8) | C33: =노무공수!C35 -> 기타 협의에 의하여 지정하는 사항 등
A34: =노무공수!A36 -> 2 | B34: =노무공수!B36 -> 0 | C34: =노무공수!C36 -> 선도기업 선정 비전선포식 기획‧운영
A35: =노무공수!A37 -> 0 | B35: =노무공수!B37 -> 1) | C35: =노무공수!C37 -> 전체 비전선포식 프로그램 세부 기획 및 운영
A36: =노무공수!A38 -> 0 | B36: =노무공수!B38 -> 0 | C36: =노무공수!C38 -> - 프로그램 운영(➊~➌ 프로그램 별) 기획서 제안
A37: =노무공수!A39 -> 0 | B37: =노무공수!B39 -> 0 | C37: =노무공수!C39 -> ❶ 지역혁신 선도기업 세레머니, ❷ 선도기업 지원 MOU,
A38: =노무공수!A40 -> 0 | B38: =노무공수!B40 -> 0 | C38: =노무공수!C40 -> ❸ 포상수여식, ❹ 기타(추가제안)
A39: =노무공수!A41 -> 0 | B39: =노무공수!B41 -> 2) | C39: =노무공수!C41 -> 선도기업 사업 특성에 따른 전략 및 운영방안 제시
... A87: =노무공수!A89 -> 0 | B87: =노무공수!B89 -> 0 | C87: =노무공수!C89 -> - (주요내용) 지역산업진흥 우수 유공자 포상
A88: 계 | G88: =SUM(G8:G87) -> 0 | J88: =SUM(J8:J87) -> 0 | M88: =SUM(M8:M87) -> 0 | N88: =SUM(N8:N87) -> 0

Sheet 노무공수
A1: < 표 : 3 >
A2: 노무공수산출표
A4: =원가!$A$3 -> □ 과업명 : 지역혁신 선도기업 100 비전선포식
A5: 순번 | C5: 업 무 내 용 | E5: 책임연구원 | H5: 연구원 | K5: 연구보조원 | N5: 비 고
E6: 투입인원 | F6: 작업일수 | G6: 노무공수 | H6: 투입인원 | I6: 작업일수 | J6: 노무공수 | K6: 투입인원 | L6: 작업일수 | M6: 노무공수
E7: 주1) | F7: 주2) | G7: 주3) | H7: 주1) | I7: 주2) | J7: 주3) | K7: 주1) | L7: 주2) | M7: 주3)
E8: (인) | F8: (일) | G8: (M/D) | H8: (인) | I8: (일) | J8: (M/D) | K8: (인) | L8: (일) | M8: (M/D)
A9: =작업일수!A9 -> ▶ | B9: =작업일수!B9 -> 0 | C9: =작업일수!C9 -> 지역혁신 선도기업 100 비전선포식 | E9: 1 | F9: =+작업일수!H9 -> 13.2 | G9: =IF(A9>0,TRUNC(E9*F9,2),"") -> 13.2 | H9: 1 | I9: =+작업일수!L9 -> 24.2 | J9: =IF(A9>0,TRUNC(H9*I9,2),"") -> 24.2 | K9: 1 | L9: =+작업일수!P9 -> 26.4 | M9: =IF(A9>0,TRUNC(K9*L9,2),"") -> 26.4
A10: =작업일수!A10 -> 1 | B10: =작업일수!B10 -> 0 | C10: =작업일수!C10 -> 총괄사항
A11: =작업일수!A11 -> 0 | B11: =작업일수!B11 -> 1) | C11: =작업일수!C11 -> 비전선포식 기획 및 운영방안 제시
A12: =작업일수!A12 -> 0 | B12: =작업일수!B12 -> 0 | C12: =작업일수!C12 -> - 비전선포식 전체 컨셉 및 개최 방향 제시
A13: =작업일수!A13 -> 0 | B13: =작업일수!B13 -> 0 | C13: =작업일수!C13 -> - 비전선포식 세부 프로그램 등 기획 및 운영방안 제시
A14: =작업일수!A14 -> 0 | B14: =작업일수!B14 -> 0 | C14: =작업일수!C14 -> - 운영 매뉴얼, 시나리오 등 제시
A15: =작업일수!A15 -> 0 | B15: =작업일수!B15 -> 2) | C15: =작업일수!C15 -> 주최 및 전문기관의 비전선포식 기획 및 준비 업무 지원
A16: =작업일수!A16 -> 0 | B16: =작업일수!B16 -> 0 | C16: =작업일수!C16 -> - 보고자료 작성 및 각종 기획 관련 회의 참석‧지원
A17: =작업일수!A17 -> 0 | B17: =작업일수!B17 -> 0 | C17: =작업일수!C17 -> - 비전선포식 준비의 효율성 제고를 위한 전담인력 배정
A18: =작업일수!A18 -> 0 | B18: =작업일수!B18 -> 3) | C18: =작업일수!C18 -> 비전선포식 참가자 관리, 기념품 제작 배포
A19: =작업일수!A19 -> 0 | B19: =작업일수!B19 -> 0 | C19: =작업일수!C19 -> - 참가자 초청․관리(300인 규모) 및 현장 리셉션 운영
A20: =작업일수!A20 -> 0 | B20: =작업일수!B20 -> 0 | C20: =작업일수!C20 -> - 참가자 식‧음료 제공, 상시 다과 제공
A21: =작업일수!A21 -> 0 | B21: =작업일수!B21 -> 0 | C21: =작업일수!C21 -> - 참가자용 기념품 제작‧배포
... A24: =작업일수!A24 -> 0 | B24: =작업일수!B24 -> 0 | C24: =작업일수!C24 -> - 현장 사무국(부처, 주관기관 등) 운영 및 관련 시설물 지원
A25: =작업일수!A29 -> 0 | B25: =작업일수!B29 -> 0 | C25: =작업일수!C29 -> - 행사장 조성, 시설물·조명 설치 및 운영, 행사장 내 안전
A26: 주 1) 투입인원 : 제시된 제안요청서 참조
A27: =" 2) 작업일수 : "&작업일수!$A$1&작업일수!$A$2&" 참조" -> 2) 작업일수 : < 표 : 4 > 작업일수산출표 참조
A28: 3) 노무공수 : 투입인원×작업일수
A29: =작업일수!A30 -> 0 | B29: =작업일수!B30 -> 0 | C29: =작업일수!C30 -> 관리(재난, 코로나 19 대비 등)
A30: =작업일수!A31 -> 0 | B30: =작업일수!B31 -> 5) | C30: =작업일수!C31 -> 현장제작물 ⃰ 제작 및 설치
A31: =작업일수!A32 -> 0 | B31: =작업일수!B32 -> 0 | C31: =작업일수!C32 -> * 사례전시제작물, 행사장 배치도, 현수막, 통천, 행사 안내
A32: =작업일수!A33 -> 0 | B32: =작업일수!B33 -> 0 | C32: =작업일수!C33 -> 물, 행사장 주변 홍보물 등
A33: =작업일수!A34 -> 0 | B33: =작업일수!B34 -> 6) | C33: =작업일수!C34 -> 선도기업 육성사업 및 비전선포식 등 홍보일체
A34: =작업일수!A35 -> 0 | B34: =작업일수!B35 -> 7) | C34: =작업일수!C35 -> 비전선포식 종료 후 업무관련사항 정리 및 전문기관 결과보고
A35: =작업일수!A36 -> 0 | B35: =작업일수!B36 -> 8) | C35: =작업일수!C36 -> 기타 협의에 의하여 지정하는 사항 등
A36: =작업일수!A37 -> 2 | B36: =작업일수!B37 -> 0 | C36: =작업일수!C37 -> 선도기업 선정 비전선포식 기획‧운영
A37: =작업일수!A38 -> 0 | B37: =작업일수!B38 -> 1) | C37: =작업일수!C38 -> 전체 비전선포식 프로그램 세부 기획 및 운영
A38: =작업일수!A39 -> 0 | B38: =작업일수!B39 -> 0 | C38: =작업일수!C39 -> - 프로그램 운영(➊~➌ 프로그램 별) 기획서 제안
A39: =작업일수!A40 -> 0 | B39: =작업일수!B40 -> 0 | C39: =작업일수!C40 -> ❶ 지역혁신 선도기업 세레머니, ❷ 선도기업 지원 MOU,
A40: =작업일수!A41 -> 0 | B40: =작업일수!B41 -> 0 | C40: =작업일수!C41 -> ❸ 포상수여식, ❹ 기타(추가제안)
... A89: =작업일수!A90 -> 0 | B89: =작업일수!B90 -> 0 | C89: =작업일수!C90 -> - (주요내용) 지역산업진흥 우수 유공자 포상
A90: 계 | G90: =SUM(G9:G89) -> 13.2 | J90: =SUM(J9:J89) -> 24.2 | M90: =SUM(M9:M89) -> 26.4 | O90: =SUM(F90:N90) -> 63.8

Sheet 작업일수
A1: < 표 : 4 >
A2: 작업일수산출표
A4: =원가!$A$3 -> □ 과업명 : 지역혁신 선도기업 100 비전선포식
A5: 순번 | C5: 업 무 내 용 | E5: 책임연구원 | I5: 연구원 | M5: 연구보조원 | Q5: 비고
E6: 작업 기간 | F6: 월작업 일수 | G6: 참여율 | H6: 작업 일수 | I6: 작업 기간 | J6: 월작업 일수 | K6: 참여율 | L6: 작업 일수 | M6: 작업 기간 | N6: 월작업 일수 | O6: 참여율 | P6: 작업 일수
E7: 주1) | F7: 주2) | G7: 주3) | H7: 주4) | I7: 주1) | J7: 주2) | K7: 주3) | L7: 주4) | M7: 주1) | N7: 주2) | O7: 주3) | P7: 주4)
E8: (월) | F8: (일) | G8: (%) | H8: (일) | I8: (월) | J8: (일) | K8: (%) | L8: (일) | M8: (월) | N8: (일) | O8: (%) | P8: (일)
A9: ▶ | B9: 0 | C9: 지역혁신 선도기업 100 비전선포식 | E9: 2 | F9: 22 | G9: 30 | H9: =IF($A9>0,TRUNC(E9*F9*G9%,2),"") -> 13.2 | I9: 2 | J9: 22 | K9: 55 | L9: =IF($A9>0,TRUNC(I9*J9*K9%,2),"") -> 24.2 | M9: 2 | N9: 22 | O9: 60 | P9: =IF($A9>0,TRUNC(M9*N9*O9%,2),"") -> 26.4
A10: 1 | B10: 0 | C10: 총괄사항
A11: 0 | B11: 1) | C11: 비전선포식 기획 및 운영방안 제시
A12: 0 | B12: 0 | C12: - 비전선포식 전체 컨셉 및 개최 방향 제시
A13: 0 | B13: 0 | C13: - 비전선포식 세부 프로그램 등 기획 및 운영방안 제시
A14: 0 | B14: 0 | C14: - 운영 매뉴얼, 시나리오 등 제시
A15: 0 | B15: 2) | C15: 주최 및 전문기관의 비전선포식 기획 및 준비 업무 지원
A16: 0 | B16: 0 | C16: - 보고자료 작성 및 각종 기획 관련 회의 참석‧지원
A17: 0 | B17: 0 | C17: - 비전선포식 준비의 효율성 제고를 위한 전담인력 배정
A18: 0 | B18: 3) | C18: 비전선포식 참가자 관리, 기념품 제작 배포
A19: 0 | B19: 0 | C19: - 참가자 초청․관리(300인 규모) 및 현장 리셉션 운영
A20: 0 | B20: 0 | C20: - 참가자 식‧음료 제공, 상시 다과 제공
A21: 0 | B21: 0 | C21: - 참가자용 기념품 제작‧배포
A22: 0 | B22: 0 | C22: - 주요인사 대기실 및 의전 지원(다과 등)
A23: 0 | B23: 4) | C23: 비전선포식 현장 운영 및 시설물 지원
C24: - 현장 사무국(부처, 주관기관 등) 운영 및 관련 시설물 지원
A25: 주 1) 작업기간 : 제시된 제안요청서 참조
A26: 2) 월작업일수 : 학술연구용역 인건비 기준단가 중 근무일수 22일 적용
A27: 3) 참여율 : 제시된 제안요청서를 기준으로 참여율을 산정하였음
A28: 4) 작업일수 : 작업기간×월작업일수×참여율
A29: 0 | B29: 0 | C29: - 행사장 조성, 시설물·조명 설치 및 운영, 행사장 내 안전
A30: 0 | B30: 0 | C30: 관리(재난, 코로나 19 대비 등)
A31: 0 | B31: 5) | C31: 현장제작물 ⃰ 제작 및 설치
A32: 0 | B32: 0 | C32: * 사례전시제작물, 행사장 배치도, 현수막, 통천, 행사 안내
A33: 0 | B33: 0 | C33: 물, 행사장 주변 홍보물 등
A34: 0 | B34: 6) | C34: 선도기업 육성사업 및 비전선포식 등 홍보일체
A35: 0 | B35: 7) | C35: 비전선포식 종료 후 업무관련사항 정리 및 전문기관 결과보고
A36: 0 | B36: 8) | C36: 기타 협의에 의하여 지정하는 사항 등
A37: 2 | B37: 0 | C37: 선도기업 선정 비전선포식 기획‧운영
A38: 0 | B38: 1) | C38: 전체 비전선포식 프로그램 세부 기획 및 운영
A39: 0 | B39: 0 | C39: - 프로그램 운영(➊~➌ 프로그램 별) 기획서 제안
A40: 0 | B40: 0 | C40: ❶ 지역혁신 선도기업 세레머니, ❷ 선도기업 지원 MOU,
A41: 0 | B41: 0 | C41: ❸ 포상수여식, ❹ 기타(추가제안)
...

Sheet 경비
A1: < 표 : 7 >
A2: 경비집계표
A4: =원가!$A$3 -> □ 과업명 : 지역혁신 선도기업 100 비전선포식 | G4: 단위 : 원
A5: 비목 | D5: 금액 | F5: 비고
B7: 여비 | D7: =+국내여비!G22 -> 0 | F7: 주 1)
B8: 유인물비 | D8: =유인물!I22 -> 0 | F8: 주 2)
B9: 연구용재료비 | D9: =연구용재료비!F15 -> 0 | F9: 주 3)
B10: 교통통신비 | D10: =교통통신비!H13 -> 0 | F10: 주 4)
B11: 회의비 | D11: =회의비!F11 -> 0 | F11: 주 5)
B12: 전산처리비 | D12: =전산처리비!L13 -> 0 | F12: 주 6)
B13: 행사운영비 | D13: =운영비!F49 -> 0 | F13: 주 7)
B14: 행사홍보비 | D14: =홍보비!F31 -> 0 | F14: 주 8)
B16: 계 | D16: =SUM(D7:D15) -> 0
A17: ="주 1) " &B7&" : "&국내여비!A1&국내여비!A2&" 참조" -> 주 1) 여비 : < 표 : 8 > 국내여비산출표 참조
A18: =" 2) " &B8&" : "&유인물!A1&유인물!A2&" 참조" -> 2) 유인물비 : < 표 : 10 > 유인물비산출표 참조
A19: =" 3) " &B9&" : "&연구용재료비!A1&""&연구용재료비!A2&" 참조" -> 3) 연구용재료비 : < 표 : 11 > 연구용재료비산출표 참조
A20: =" 4) " &B10&" : "&교통통신비!A1&""&교통통신비!A2&" 참조" -> 4) 교통통신비 : < 표 : 12 > 교통통신비산출표 참조
A21: =" 5) " &B11&" : "&회의비!A1&""&회의비!A2&" 참조" -> 5) 회의비 : < 표 : 13 > 회의비산출표 참조
A22: =" 6) " &B12&" : "&전산처리비!A1&""&전산처리비!A2&" 참조" -> 6) 전산처리비 : < 표 : 14 > 전산처리비산출표 참조
A23: =" 7) " &B13&" : "&운영비!A1&운영비!A2&" 참조" -> 7) 행사운영비 : < 표 : 15 > 행사운영비산출표 참조
A24: =" 8) " &B14&" : "&홍보비!A1&홍보비!A2&" 참조" -> 8) 행사홍보비 : < 표 : 16 > 행사홍보비산출표 참조

Sheet 국내여비
A1: < 표 : 8 >
A2: 국내여비산출표
A4: □ 과업명 : 지역혁신 선도기업 100 비전선포식 | H4: 단위 : 원
A5: 등 급 별 | B5: 출 장 지 | C5: 내 용 | D5: 단 위 | E5: 수 량 | F5: 단 가 | G5: 금 액 | H5: 비 고
E6: 주 1) | F6: 주 2)
A7: 책임연구원 | B7: 서울↔대구 | C7: 운임 | D7: 회/왕복 | E7: 3 | G7: =TRUNC(F7*E7,0) -> 0
B8: 0 | C8: 일비 | D8: 일 | E8: 3 | G8: =TRUNC(F8*E8,0) -> 0
B9: 0 | C9: 식비 | D9: 일 | E9: 3 | G9: =TRUNC(F9*E9,0) -> 0
B10: 서울↔세종 | C10: 운임 | D10: 회/왕복 | E10: 3 | G10: =TRUNC(F10*E10,0) -> 0
B11: 0 | C11: 일비 | D11: 일 | E11: 3 | G11: =TRUNC(F11*E11,0) -> 0
B12: 0 | C12: 식비 | D12: 일 | E12: 3 | G12: =TRUNC(F12*E12,0) -> 0
A13: 연구원 | B13: 서울↔대구 | C13: 운임 | D13: 회/왕복 | E13: 3 | G13: =TRUNC(F13*E13,0) -> 0
B14: 0 | C14: 일비 | D14: 일 | E14: 3 | G14: =TRUNC(F14*E14,0) -> 0
B15: 0 | C15: 식비 | D15: 일 | E15: 3 | G15: =TRUNC(F15*E15,0) -> 0
B16: 서울↔세종 | C16: 운임 | D16: 회/왕복 | E16: 3 | G16: =TRUNC(F16*E16,0) -> 0
B17: 0 | C17: 일비 | D17: 일 | E17: 3 | G17: =TRUNC(F17*E17,0) -> 0
B18: 0 | C18: 식비 | D18: 일 | E18: 3 | G18: =TRUNC(F18*E18,0) -> 0
A19: 연구보조원 | B19: 서울↔대구 | C19: 운임 | D19: 회/왕복 | E19: 3 | G19: =TRUNC(F19*E19,0) -> 0
B20: 0 | C20: 일비 | D20: 일 | E20: 3 | G20: =TRUNC(F20*E20,0) -> 0
B21: 0 | C21: 식비 | D21: 일 | E21: 3 | G21: =TRUNC(F21*E21,0) -> 0
A22: 계 | G22: =SUM(G7:G21) -> 0
A23: 주 1) 수량 : < 표 : 9 > 국내여비소요량산출표 참조
A24: 2) 단가(운임) : 시중유통거래가격에 의해 산정함
A25: 단가(일비,식비) : 공무원여비규정 국내여비 중 [별표 2] 국내여비지급표 참조 (책임연구원-제1호, 연구원,연구보조원-제2호)

Sheet 국내소요
A1: < 표 : 9 >
A2: 국내여비소요량산출표
A4: □ 과업명 : 지역혁신 선도기업 100 비전선포식
A5: 등 급 별 | B5: 출 장 지 | C5: 출장인원 | D5: 출장회수 | E5: 내 용 | F5: 단 위 | G5: 수 량 | H5: 비 고
A7: 책임연구원 | B7: 서울↔대구 | C7: 1 | D7: 3 | E7: 운임 | F7: 회/왕복 | G7: =C7*D7 -> 3
E8: 일비 | F8: 일 | G8: =G7 -> 3 | H8: 현장답사
E9: 식비 | F9: 일 | G9: =G8 -> 3
B10: 서울↔세종 | C10: 1 | D10: 3 | E10: 운임 | F10: 회/왕복 | G10: =C10*D10 -> 3
E11: 일비 | F11: 일 | G11: =G10 -> 3 | H11: 보고회
E12: 식비 | F12: 일 | G12: =G11 -> 3
A13: 연구원 | B13: 서울↔대구 | C13: 1 | D13: 3 | E13: 운임 | F13: 회/왕복 | G13: =C13*D13 -> 3
E14: 일비 | F14: 일 | G14: =G13 -> 3 | H14: 현장답사
E15: 식비 | F15: 일 | G15: =G14 -> 3
B16: 서울↔세종 | C16: 1 | D16: 3 | E16: 운임 | F16: 회/왕복 | G16: =C16*D16 -> 3
E17: 일비 | F17: 일 | G17: =G16 -> 3 | H17: 보고회
E18: 식비 | F18: 일 | G18: =G17 -> 3
A19: 연구보조원 | B19: 서울↔대구 | C19: 1 | D19: 3 | E19: 운임 | F19: 회/왕복 | G19: =C19*D19 -> 3
E20: 일비 | F20: 일 | G20: =G19 -> 3 | H20: 현장답사
E21: 식비 | F21: 일 | G21: =G20 -> 3
A22: 주) 과업수행 현장방문을 목적으로써 관련 조사방문지역을 기준으로 적용함

Sheet 유인물
A1: < 표 : 10 >
A2: 유인물비산출표
A4: =원가!$A$3 -> □ 과업명 : 지역혁신 선도기업 100 비전선포식 | J4: 단위 : 원
A5: 구분 | C5: 품 명 | E5: 규 격 | F5: 단위 | G5: 수 량 | H5: 단 가 | I5: 금 액 | J5: 산 출 내 역
G6: 주 1) | H6: 주 2)
A7: 1. 착수보고서 제작비 | J7: (A4, 30면, 5부)
C8: 복사비 | E8: A4, 흑백 | F8: 면 | G8: 45 | I8: =G8*H8 -> 0 | J8: 30면×5부×30%
C9: 복사비 | E9: A4, 칼라 | F9: 면 | G9: 105 | I9: =G9*H9 -> 0 | J9: 30면×5부×70%
C10: 제본비 | E10: 코팅표지 | F10: 부 | G10: 5 | I10: =G10*H10 -> 0 | J10: 5부
A12: 2. 중간보고서 제작비 | J12: (A4, 100면, 5부)
C13: 복사비 | E13: A4, 흑백 | F13: 면 | G13: 150 | I13: =G13*H13 -> 0 | J13: 100면×5부×30%
C14: 복사비 | E14: A4, 칼라 | F14: 면 | G14: 350 | I14: =G14*H14 -> 0 | J14: 100면×5부×70%
C15: 제본비 | E15: 코팅표지 | F15: 부 | G15: 5 | I15: =G15*H15 -> 0 | J15: 5부
A17: 3. 최종보고서 제작비 | J17: (A4, 200면, 5부)
C18: 복사비 | E18: A4, 흑백 | F18: 면 | G18: 300 | I18: =G18*H18 -> 0 | J18: 200면×5부×30%
C19: 복사비 | E19: A4, 칼라 | F19: 면 | G19: 700 | I19: =G19*H19 -> 0 | J19: 200면×5부×70%
C20: 제본비 | E20: 코팅표지 | F20: 부 | G20: 5 | I20: =G20*H20 -> 0 | J20: 5부
A22: 계 | I22: =SUM(I7:I21) -> 0
A23: 주 1) 수량 : 제시된 제안요청서를 기준으로 산출하였음
A24: 2) 단가 : 시중유통거래가격 참조

Sheet 연구용재료비
A1: < 표 : 11 >
A2: 연구용재료비산출표
A4: =원가!$A$3 -> □ 과업명 : 지역혁신 선도기업 100 비전선포식 | G4: 단위 : 원
A5: 구 분 | B5: 규 격 | C5: 단위 | D5: 수량 | E5: 단 가 | F5: 금 액 | G5: 비 고
D6: 주 1) | E6: 주 2)
A7: 볼펜 | B7: 모나미(3색) | C7: 타 | D7: 1 | F7: =TRUNC(D7*E7,0) -> 0
A8: 형광펜 | B8: 12색 | C8: 타 | D8: 1 | F8: =TRUNC(D8*E8,0) -> 0
A9: 사인펜 | B9: 모나미 351 | C9: 타 | D9: 1 | F9: =TRUNC(D9*E9,0) -> 0
A10: 칼라집게 | B10: 中 | C10: EA | D10: 5 | F10: =TRUNC(D10*E10,0) -> 0
A11: 바인더 | B11: 2공,3공,4공 | C11: 권 | D11: 1 | F11: =TRUNC(D11*E11,0) -> 0
A12: 일반Post-it | B12: 653 3M | C12: EA | D12: 3 | F12: =TRUNC(D12*E12,0) -> 0
A13: USB 메모리 | B13: Sandisk 8GB | C13: EA | D13: 1 | F13: =TRUNC(D13*E13,0) -> 0
A15: 계 | F15: =SUM(F7:F14) -> 0
A16: 주 1) 수량 : 당해 연구내용과 관련하여 필요한 소모성 재료비를 산정하였음
A17: 2) 단가 : 물가지가격 및 시중유통거래가격 참조

Sheet 교통통신비
A1: < 표 : 12 >
A2: 교통통신비산출표
A4: =원가!$A$3 -> □ 과업명 : 지역혁신 선도기업 100 비전선포식 | I4: 단위 : 원
A5: 구 분 | C5: 내 용 | E5: 단위 | F5: 수량 | G5: 단 가 | H5: 금 액 | I5: 비 고
F6: 주 1) | G6: 주 2)
A7: 교통비 | C7: 책임연구원 | E7: 인 | F7: 4 | H7: =G7*F7 -> 0 | I7: 1인×2회×2개월
C8: 연구원 | E8: 인 | F8: 4 | H8: =G8*F8 -> 0 | I8: 1인×2회×2개월
C9: 연구보조원 | E9: 인 | F9: 4 | H9: =G9*F9 -> 0 | I9: 1인×2회×2개월
A10: 통신비 | C10: 전화사용료 | E10: 건 | F10: 132 | H10: =G10*F10 -> 0 | I10: 22통화×3인×2개월
C11: 택배비 | E11: 회 | F11: 6 | H11: =G11*F11 -> 0 | I11: 3회/월×2개월
A13: 계 | H13: =SUM(H7:H12) -> 0
A14: 주 1) 수량 : 제시된 제안요청서에 의거하여 산출하였음
A15: =" 2) 단가 : 시중유통거래가격 참조" -> 2) 단가 : 시중유통거래가격 참조

Sheet 회의비
A1: < 표 : 13 >
A2: 회의비산출표
A4: =원가!$A$3 -> □ 과업명 : 지역혁신 선도기업 100 비전선포식 | G4: 단위 : 원
A5: 구 분 | B5: 내 용 | C5: 단위 | D5: 수량 | E5: 단 가 | F5: 금 액 | G5: 비 고
D6: 주 1) | E6: 주 2)
A7: 회 의 비 | B7: 착수보고회 | C7: 회 | D7: 1 | F7: =TRUNC(D7*E7,0) -> 0
B8: 중간보고회 | C8: 회 | D8: 1 | F8: =TRUNC(D8*E8,0) -> 0
B9: 최종보고회 | C9: 회 | D9: 1 | F9: =TRUNC(D9*E9,0) -> 0
A11: 계 | F11: =SUM(F7:F10) -> 0
A12: 주 1) 수량 : 제시된 제안요청서 참조
A13: 2) 단가 : 2022년도 예산 및 기금운용계획 집행지침 및 시중유통거래가격을 참조

Sheet 전산처리비
A1: < 표 : 14 >
A2: 전산처리비산출표
A4: =원가!$A$3 -> □ 과업명 : 지역혁신 선도기업 100 비전선포식 | M4: 단위 : 원
A5: 구 분 | B5: 품 명 | C5: 단위 | D5: 취득금액 주1) | G5: 내용 연수 | H5: 연간금액 | I5: 월간금액 | J5: 용역기간 (개월) | K5: 사용율 (%) | L5: 금 액 | M5: 비고
D6: 단 가 | E6: 수량 | F6: 금 액
G7: 주 2) | H7: 주 3) | I7: 주 4) | J7: 주 5) | K7: 주 6) | L7: 주 7)
A8: PC(모니터포함) | B8: DM500S9Z-AD7BA/ S24E510C | C8: 대 | E8: 3 | F8: =TRUNC(E8*D8,0) -> 0 | G8: 6 | H8: =TRUNC(F8/G8,0) -> 0 | I8: =SUM(H8/12) -> 0 | J8: 2 | K8: 50 | L8: =TRUNC(I8*J8*K8%,0) -> 0
A9: 프린터 | B9: SL-C412W | C9: 대 | E9: 1 | F9: =TRUNC(E9*D9,0) -> 0 | G9: 6 | H9: =TRUNC(F9/G9,0) -> 0 | I9: =SUM(H9/12) -> 0 | J9: 2 | K9: 50 | L9: =TRUNC(I9*J9*K9%,0) -> 0
A10: 프린터 용지 | B10: A4(2,500매) | C10: BOX | E10: 2 | F10: =TRUNC(E10*D10,0) -> 0 | L10: =F10 -> 0
A11: 프린터 토너 | B11: 레이저 | C11: EA | E11: 1 | F11: =TRUNC(E11*D11,0) -> 0 | L11: =F11 -> 0
A13: 계 | L13: =SUM(L8:L12) -> 0
A14: 주 1) 취득금액 : 물가지 및 시중유통거래가격 참조
A15: 2) 내용연수 : 법인세법에 의한 내용연수 적용
A16: 3) 연간금액 : 취득금액÷내용연수
A17: 4) 월간금액 : 연간금액÷12개월
A18: 5) 용역기간 : 제시된 제안요청서 참조
A19: 6) 사용율(%) : 제시된 제안요청서를 기준으로 사용율을 산정하였음
A20: 7) 적용금액 : 월간금액×용역기간×사용율

Sheet 운영비
A1: < 표 : 15 >
A2: 행사운영비산출표
A4: =원가!$A$3 -> □ 과업명 : 지역혁신 선도기업 100 비전선포식 | G4: 단위 : 원
A5: 구 분 | B5: 내 용 | C5: 단위 | D5: 수량 | E5: 단 가 | F5: 금 액 | G5: 비고
D6: 주 1) | E6: 주 2)
A7: 1. 행사운영
A8: - 행사장섭외 | B8: 대형 연회장 | C8: 일 | D8: 1 | F8: =TRUNC(D8*E8,0) -> 0
A9: - 케이터링 | B9: 뷔페 | C9: 인 | D9: 300 | F9: =TRUNC(D9*E9,0) -> 0
B10: 다과 및 음료 | C10: 인 | D10: 300 | F10: =TRUNC(D10*E10,0) -> 0
A11: - 행사장조성 | B11: 중앙벽체 | C11: 식 | D11: 1 | F11: =TRUNC(D11*E11,0) -> 0
B12: 아시바 설치/보강 | C12: 식 | D12: 1 | F12: =TRUNC(D12*E12,0) -> 0
B13: LED 받침 | C13: 식 | D13: 1 | F13: =TRUNC(D13*E13,0) -> 0
B14: 무대바닥 설치 | C14: 식 | D14: 1 | F14: =TRUNC(D14*E14,0) -> 0
B15: 전면계단 설치 | C15: 식 | D15: 1 | F15: =TRUNC(D15*E15,0) -> 0
B16: 파이텍스 마감 | C16: 식 | D16: 1 | F16: =TRUNC(D16*E16,0) -> 0
B17: 콘솔 마감 | C17: 식 | D17: 1 | F17: =TRUNC(D17*E17,0) -> 0
B18: 카메라단 분리형 | C18: 식 | D18: 1 | F18: =TRUNC(D18*E18,0) -> 0
B19: 등록데스크벽체 | C19: 식 | D19: 1 | F19: =TRUNC(D19*E19,0) -> 0
B20: 음향시스템(스피커/앰프/ 마이크/엔지니어 등 일체) | C20: 식 | D20: 1 | F20: =TRUNC(D20*E20,0) -> 0
B21: 조명시스템(Beam/블라인 드/엔지니어 등 일체) | C21: 식 | D21: 1 | F21: =TRUNC(D21*E21,0) -> 0
B22: 성과전시선반 및 D/P용품 | C22: 식 | D22: 1 | F22: =TRUNC(D22*E22,0) -> 0
B23: 철거 | C23: 식 | D23: 1 | F23: =TRUNC(D23*E23,0) -> 0
A24: - 기자재조성 | B24: LED Media Wall(12*4.5m) | C24: 식 | D24: 1 | F24: =TRUNC(D24*E24,0) -> 0
B25: 노트북(i5, 15.1") | C25: 대 | D25: 3 | F25: =TRUNC(D25*E25,0) -> 0
B26: 무전기 | C26: ea | D26: 15 | F26: =TRUNC(D26*E26,0) -> 0
B27: 중계(hd eng 카메라) | C27: 대 | D27: 2 | F27: =TRUNC(D27*E27,0) -> 0
B28: 중계(스위처 및 기본편집) | C28: 식 | D28: 1 | F28: =TRUNC(D28*E28,0) -> 0
B29: 중계(대포 렌즈) | C29: ea | D29: 1 | F29: =TRUNC(D29*E29,0) -> 0
A30: - 기자재조성 | B30: LED TV(46"+가림막) | C30: 대 | D30: 2 | F30: =TRUNC(D30*E30,0) -> 0
B31: 델리게이션 마이크 | C31: ea | D31: 10 | F31: =TRUNC(D31*E31,0) -> 0
A32: - 차량운영 | B32: 리무진(Half Day) | C32: 대 | D32: 2 | F32: =TRUNC(D32*E32,0) -> 0
B33: 45인승 대형버스 | C33: 대 | D33: 2 | F33: =TRUNC(D33*E33,0) -> 0
A34: - 진행인력 | B34: 아나운서급 사회자 | C34: 인 | D34: 1 | F34: =TRUNC(D34*E34,0) -> 0
B35: 현장운영요원 | C35: 인 | D35: 10 | F35: =TRUNC(D35*E35,0) -> 0
B36: 보안요원 | C36: 인 | D36: 5 | F36: =TRUNC(D36*E36,0) -> 0
B37: 등록데스크 | C37: 인 | D37: 2 | F37: =TRUNC(D37*E37,0) -> 0
B38: 기자재 테크니션 | C38: 인 | D38: 5 | F38: =TRUNC(D38*E38,0) -> 0
A39: - 행사공연 | B39: 전통무용단 | C39: 회 | D39: 1 | F39: =TRUNC(D39*E39,0) -> 0
A40: - 행사기록 | B40: 사진 및 영상 촬영 | C40: 인 | D40: 3 | F40: =TRUNC(D40*E40,0) -> 0
A41: - 기념품 | B41: 귀빈용 | C41: ea | D41: 20 | F41: =TRUNC(D41*E41,0) -> 0
...

Sheet 홍보비
A1: < 표 : 16 >
A2: 행사홍보비산출표
A4: =원가!$A$3 -> □ 과업명 : 지역혁신 선도기업 100 비전선포식 | G4: 단위 : 원
A5: 구 분 | B5: 내 용 | C5: 단위 | D5: 수량 | E5: 단 가 | F5: 금 액 | G5: 비 고
D6: 주 1) | E6: 주 2)
A7: 1. 출력물제작
A8: - 홍보출력물 | B8: 초청장(143*143mm) | C8: 식 | D8: 1 | F8: =TRUNC(D8*E8,0) -> 0
B9: 리플렛(3단 접지) | C9: 식 | D9: 1 | F9: =TRUNC(D9*E9,0) -> 0
B10: 포스터(420*594) | C10: 식 | D10: 1 | F10: =TRUNC(D10*E10,0) -> 0
B11: 자료집(210*297mm) | C11: 식 | D11: 1 | F11: =TRUNC(D11*E11,0) -> 0
B12: 대형가로현수막 (7950*6600) | C12: ea | D12: 1 | F12: =TRUNC(D12*E12,0) -> 0
B13: X-배너(600*1,800) | C13: ea | D13: 10 | F13: =TRUNC(D13*E13,0) -> 0
B14: 가로등배너 (600*1,800) | C14: ea | D14: 20 | F14: =TRUNC(D14*E14,0) -> 0
B15: 사인보드 (스탠드 A보드) | C15: ea | D15: 5 | F15: =TRUNC(D15*E15,0) -> 0
B16: 명패(280*90) | C16: ea | D16: 20 | F16: =TRUNC(D16*E16,0) -> 0
B17: 네임텍(121*177) | C17: ea | D17: 280 | F17: =TRUNC(D17*E17,0) -> 0
A18: - 홍보물발송 | B18: EDM 발송 | C18: 식 | D18: 1 | F18: =TRUNC(D18*E18,0) -> 0
A19: - 홍보물디자인 | B19: 디자인 기획/편집 | C19: 식 | D19: 1 | F19: =TRUNC(D19*E19,0) -> 0
A21: 2. 홍보콘텐츠
A22: - 영상제작 | B22: 지역혁신 선도기업 (3분 이내) | C22: 편 | D22: 1 | F22: =TRUNC(D22*E22,0) -> 0
A23: - 콘텐츠제작 | B23: 카드뉴스(10장 내외) | C23: 회 | D23: 2 | F23: =TRUNC(D23*E23,0) -> 0
B24: 인포그래픽 | C24: 회 | D24: 2 | F24: =TRUNC(D24*E24,0) -> 0
B25: SNS콘텐츠 영상편집 | C25: 식 | D25: 1 | F25: =TRUNC(D25*E25,0) -> 0
A26: - SNS 홍보 | B26: 페이스북, 유튜브 등 콘텐츠 노출 | C26: 개월 | D26: 4 | F26: =TRUNC(D26*E26,0) -> 0
A28: 3. 언론홍보
A29: - 기사노출 | B29: 보도자료 배포 | C29: 회 | D29: 4 | F29: =TRUNC(D29*E29,0) -> 0
A31: 계 | F31: =SUM(F6:F30) -> 0
A32: 주 1) 수량 : 제시된 제안요청서 참조
A33: 2) 단가 : 시중유통거래가격 참조

Sheet 일반
A1: < 표 : 17 >
A2: 일반관리비산출표
A4: =원가!$A$3 -> □ 과업명 : 지역혁신 선도기업 100 비전선포식 | G4: 단위 : 원
A5: 비 목 | C5: 적 용 대 상 액 | F5: 비율(%) | G5: 금 액
C6: 인 건 비 | D6: 경 비 | E6: 계
C7: 주 1) | D7: 주 2) | F7: 주 3)
A8: 일반관리비 | C8: =인집!D11 -> 0 | D8: =경비!D16 -> 0 | E8: =SUM(C8:D8) -> 0 | F8: =#REF! -> #REF! | G8: =TRUNC(E8*F8%,0) -> #REF!
A10: 계 | G10: =SUM(G8:G9) -> #REF!
A11: ="주 1) 인건비 : "&인집!A1&인집!A2&" 참조" -> 주 1) 인건비 : < 표 : 1 > 인건비집계표 참조
A12: =" 2) 경비 : "&경비!A1&경비!A2&" 참조" -> 2) 경비 : < 표 : 7 > 경비집계표 참조
A13: =" 3) 비율(%) : "&#REF!&#REF!&" 참조" -> #REF!

Sheet 이윤
A1: < 표 : 19 >
A2: 이윤산출표
A4: =원가!$A$3 -> □ 과업명 : 지역혁신 선도기업 100 비전선포식 | I4: 단위 : 원
B5: 비 목 | D5: 적 용 대 상 액 | H5: 비율(%) | I5: 금 액
D6: 인건비 | E6: 경비 | F6: 일반관리비 | G6: 계
D7: 주 1) | E7: 주 2) | F7: 주 3) | H7: 주 4)
B8: 이 윤 | D8: =일반!C8 -> 0 | E8: =일반!D8 -> 0 | F8: =일반!G10 -> #REF! | G8: =SUM(D8:F8) -> #REF! | H8: =#REF! -> #REF! | I8: =TRUNC(G8*H8%,0) -> #REF!
B10: 계 | I10: =SUM(I8:I9) -> #REF!
A11: ="주 1) 인건비 : "&인집!A1&인집!A2&" 참조" -> 주 1) 인건비 : < 표 : 1 > 인건비집계표 참조
A12: =" 2) 경비 : "&경비!A1&경비!A2&" 참조" -> 2) 경비 : < 표 : 7 > 경비집계표 참조
A13: =" 3) 일반관리비 : "&일반!A1&일반!A2&" 참조" -> 3) 일반관리비 : < 표 : 17 > 일반관리비산출표 참조
A14: =" 4) 비율(%) : "&#REF!&#REF!&" 참조" -> #REF!
