Workbook
Name ___________q45: {"'용역비'!$A$4:$C$8"}
Name __q45: {"'용역비'!$A$4:$C$8"}
Name _0: [5]직재!#REF!
Name _1: [6]I一般比!#REF!
Name _10dB4_: [8]내역서!$A$13:$L$134
Name _11IL1_: #REF!
Name _11q45_: {"'용역비'!$A$4:$C$8"}
Name _19q45_: {"'용역비'!$A$4:$C$8"}
Name _1IL1_: #REF!
Name _1단: #REF!
Name _2: [11]J直材4!$F$5:$G$5
Name _22q45_: {"'용역비'!$A$4:$C$8"}
Name _3: #N/A
Name _3a1_: #REF!
Name _4: #REF!
Name _40q45_: {"'용역비'!$A$4:$C$8"}
Name _42q45_: {"'용역비'!$A$4:$C$8"}
Name _4DB11_: [16]내역서!$A$15:$L$115
Name _5: '[17]설직재-1'!#REF!
Name _53q45_: {"'용역비'!$A$4:$C$8"}
Name _5DB12_: [16]내역서!$A$15:$L$115
Name _6: #REF!
Name _69q45_: {"'용역비'!$A$4:$C$8"}
Name _6DB13_: [16]내역서!$A$15:$L$115
Name _6q45_: {"'용역비'!$A$4:$C$8"}
Name _7: '[17]설직재-1'!#REF!
Name _7DB14_: [16]내역서!$A$15:$L$115
Name _8dB2_: [8]내역서!$A$13:$L$134
Name _9dB3_: [8]내역서!$A$13:$L$134
Name _A1: #REF!
Name _A146432: #REF!
Name _A2: #REF!
Name _A3: #REF!
Name _A4: #REF!
Name _A5: #REF!
Name _A6: #REF!
Name _A69999: #REF!
Name _A7: #REF!
Name _A70013: #REF!
Name _A8: #REF!
Name _A946432: #REF!
Name _B140007: #REF!
Name _DOG1: #REF!
Name _DOG2: #REF!
Name _DOG22: #REF!
Name _DOG3: #REF!
Name _DOG33: #REF!
Name _DOG4: #REF!
Name _KK5000: #REF!
Name _LP1: '[18]부하(성남)'!#REF!
Name _LPB1: [19]부하계산서!#REF!
Name _LPK1: [19]부하계산서!#REF!
Name _LU1: '[18]부하(성남)'!#REF!
Name _LU2: '[18]부하(성남)'!#REF!
Name _LV01: '[18]부하(성남)'!#REF!
Name _Order1: 255
Name _Order2: 255
Name _PB1: #REF!
Name _PB2: #REF!
Name _PB3: #REF!

Sheet ECSYSTEM

Sheet 표지 
A5: 중소기업기술정보진흥원
A6: 2023년 중소기업 혁신 네트워크 포럼 행사 기획·운영
A8: 예정원가계산보고서
A11: 2023. 06.

Sheet 원가
A1: Ⅳ. 용역원가계산서
A3: □ 과업명 : 2023년 중소기업 혁신 네트워크 포럼 행사 기획·운영 용역 | J3: 단위 : 원
C4: 구 분 | E4: 금 액 | G4: 구성비(%) | I4: 비 고
A5: 비 목
A6: 인 건 비 | C6: 책임연구원
C7: 연구원
C8: 연구보조원
C9: 소 계 | G9: =ROUND(E9/$E$22*100,1) -> #DIV/0!
C10: =경집!B7 -> 여비
C11: =경집!B8 -> 회의비
A12: 경 | C12: =경집!B9 -> 초청경비
C13: =경집!B10 -> 행사장임차비
C14: =경집!B11 -> 행사장조성비
C15: =경집!B12 -> 행사운영비
A16: 비 | C16: =경집!B13 -> 인쇄및제작물비
C17: =경집!B14 -> 기타경비
C18: 소 계 | G18: =ROUND(E18/$E$22*100,1) -> #DIV/0!
A19: 순용역원가 | G19: =ROUND(E19/$E$22*100,1) -> #DIV/0! | I19: 인건비＋경비
A20: 일반관리비 | G20: =ROUND(E20/$E$22*100,1) -> #DIV/0! | I20: 순용역원가 x 8.00% | K20: =#REF! -> #REF!
A21: ="이 윤("&K21&"%)" -> 이 윤(10%) | G21: =ROUND(E21/$E$22*100,1) -> #DIV/0! | I21: ="(순용역원가＋일.관)×"&K21&"%" -> (순용역원가＋일.관)×10% | K21: 10
A22: 총원가 | G22: =ROUND(E22/$E$22*100,1) -> #DIV/0! | I22: 순용역원가＋일.관＋이윤
A23: 부가가치세(10%) | I23: 총원가×10%
A24: 합계 | E24: 169402000 | I24: 총원가＋부가가치세, 천단위미만절사

Sheet 인산
A1: <표#2>
A2: 인건비 산출표
E3: 단위: 원
A4: 연구원 직급 | B4: 연 소요인원 (M/D) | C4: M/D당 임율 | D4: 금액 | E4: 비고
A6: 책임연구원 | B6: 15.4 | C6: =[134]임금단가!H6 -> 0 | D6: =INT(B6*C6) -> 0
A7: 연구원 | B7: 23 | C7: =[134]임금단가!H7 -> 0 | D7: =INT(B7*C7) -> 0
A8: 연구보조원 | B8: 23 | C8: =[134]임금단가!H8 -> 0 | D8: =INT(B8*C8) -> 0
A9: 합계 | D9: =SUM(D6:D8) -> 0
A11: 주) 1. 연 소요인원 : 산출표 참조
A12: 2. M/D당 임율 : 학술연구용역인건비 기준단가 참조
A13: 3. 금액 : 연 소요인원 × M/D당 임율

Sheet 경비(간)
A1: 경 비 산 출 표

Sheet 경집
A1: < 표 : 7 >
A2: 경비집계표
A4: =원가!$A$3 -> □ 과업명 : 2023년 중소기업 혁신 네트워크 포럼 행사 기획·운영 용역 | F4: 단위 : 원
A5: 구분 | D5: 금액 | F5: 비고
B7: 여비 | F7: 표8
B8: 회의비 | F8: 표10
B9: 초청경비 | F9: 표11
B10: 행사장임차비 | D10: 12800000 | F10: 표12
B11: 행사장조성비 | F11: 표13
B12: 행사운영비 | F12: 표14
B13: 인쇄및제작물비 | F13: 표15
B14: 기타경비 | F14: 표16
B16: 계
M22: `

Sheet 국내여비
A1: < 표 : 8 >
A2: 국내여비산출표
A4: =원가!$A$3 -> □ 과업명 : 2023년 중소기업 혁신 네트워크 포럼 행사 기획·운영 용역 | H4: 단위 : 원
A5: 등 급 별 | B5: 출 장 지 | C5: 내 용 | D5: 단 위 | E5: 수 량 | F5: 단 가 | G5: 금 액 | H5: 비 고
E6: 주 1) | F6: 주 2)
A7: 책임연구원 | B7: 서울↔제주 | C7: 운임 | D7: 회/왕복 | E7: 1 | G7: =TRUNC(F7*E7,0) -> 0 | H7: 컨퍼런스 참여
C8: 일비 | D8: 일 | E8: 3 | G8: =TRUNC(F8*E8,0) -> 0
C9: 숙박비 | D9: 박 | E9: 2 | G9: =TRUNC(F9*E9,0) -> 0
C10: 식비 | D10: 일 | E10: 3 | G10: =TRUNC(F10*E10,0) -> 0
B11: 서울↔세종 | C11: 운임 | D11: 회/왕복 | E11: 4 | G11: =TRUNC(F11*E11,0) -> 0 | H11: 보고회 및 업무협의
C12: 일비 | D12: 일 | E12: 4 | G12: =TRUNC(F12*E12,0) -> 0
C13: 식비 | D13: 일 | E13: 4 | G13: =TRUNC(F13*E13,0) -> 0
A14: 연구원 | B14: 서울↔제주 | C14: 운임 | D14: 회/왕복 | E14: 1 | G14: =TRUNC(F14*E14,0) -> 0 | H14: 컨퍼런스 참여
C15: 일비 | D15: 일 | E15: 3 | G15: =TRUNC(F15*E15,0) -> 0
C16: 숙박비 | D16: 박 | E16: 2 | G16: =TRUNC(F16*E16,0) -> 0
C17: 식비 | D17: 일 | E17: 3 | G17: =TRUNC(F17*E17,0) -> 0
B18: 서울↔세종 | C18: 운임 | D18: 회/왕복 | E18: 4 | G18: =TRUNC(F18*E18,0) -> 0 | H18: 보고회 및 업무협의
C19: 일비 | D19: 일 | E19: 4 | G19: =TRUNC(F19*E19,0) -> 0
C20: 식비 | D20: 일 | E20: 4 | G20: =TRUNC(F20*E20,0) -> 0
A21: 계 | G21: =SUM(G7:G20) -> 0
A23: 1) 단가(운임) : 시중유통거래가격에 의해 산정함
A24: 단가(일비,식비) : 공무원여비규정 국내여비 중 [별표 2] 국내여비지급표 참조 (책임연구원-제1호, 연구원,연구보조원-제2호)

Sheet 회의비
A1: < 표 : 10 >
A2: 회의비산출표
A4: =원가!$A$3 -> □ 과업명 : 2023년 중소기업 혁신 네트워크 포럼 행사 기획·운영 용역 | G4: 단위 : 원
A5: 구 분 | B5: 내 용 | C5: 단위 | D5: 수량 | E5: 단 가 | F5: 금 액 | G5: 비 고
A7: 보고회 | B7: 착수보고회 | C7: 회 | D7: 1 | F7: =TRUNC(D7*E7,0) -> 0
B8: 결과보고회 | C8: 회 | D8: 1 | F8: =TRUNC(D8*E8,0) -> 0
A10: 계 | F10: =SUM(F7:F9) -> 0
A11: 주 1) 수량 : 제시된 제안요청서 참조
A12: 2) 단가 : 시중유통거래가격을 참조

Sheet 초청경비
A1: < 표 : 11 >
A2: =경집!$B$9&" 산출표" -> 초청경비 산출표
A4: =원가!$A$3 -> □ 과업명 : 2023년 중소기업 혁신 네트워크 포럼 행사 기획·운영 용역 | G4: 단위 : 원
A5: 구 분 | B5: 내 용 | C5: 단위 | D5: 수량 | E5: 단가 | F5: 금 액 | G5: 비 고
D6: 주 1) | E6: 주 2)
A7: 1. 참석자 교통비
A8: - 하계 컨퍼런스 | B8: 항공비 (서울↔제주 왕복기준) | C8: 인/회 | D8: 60 | F8: =TRUNC(D8*E8,0) -> 0 | G8: 60인×1회
A10: 2. 수송차량
A11: - 하계 컨퍼런스 | B11: 장관급/고급 리무진 | C11: 대/일 | D11: 10 | F11: =TRUNC(D11*E11,0) -> 0 | G11: 5대×2일
B12: 일반참가자/45인승 리무진버스 | C12: 대/일 | D12: 4 | F12: =TRUNC(D12*E12,0) -> 0 | G12: 2대×2일
A13: - 심포지엄 | B13: 장관급/고급 리무진 | C13: 대/일 | D13: 5 | F13: =TRUNC(D13*E13,0) -> 0 | G13: 5대×1일
B14: 일반참가자/45인승 리무진버스 | C14: 대/일 | D14: 1 | F14: =TRUNC(D14*E14,0) -> 0 | G14: 1대×1일
A16: 3. 숙식
A17: 1) 하계 컨퍼런스
A18: - 숙박비 | B18: 장관급 | C18: 실/박 | D18: 5 | F18: =TRUNC(D18*E18,0) -> 0 | G18: 5실×1박
B19: 분과장 및 일반 참가자 | C19: 인/박 | D19: 28 | F19: =TRUNC(D19*E19,0) -> 0 | G19: 28실×1박
A20: - 식비(1일차) | B20: 중식 | C20: 인/회 | D20: 60 | F20: =TRUNC(D20*E20,0) -> 0 | G20: 60인×1회
B21: 커피 브레이크 | C21: 인/회 | D21: 180 | F21: =TRUNC(D21*E21,0) -> 0 | G21: 60인×3회
B22: 환영만찬 | C22: 인/회 | D22: 60 | F22: =TRUNC(D22*E22,0) -> 0 | G22: 60인×1회
A23: - 식비(2일차) | B23: 중식 | C23: 인/회 | D23: 60 | F23: =TRUNC(D23*E23,0) -> 0 | G23: 60인×1회
B24: 커피 브레이크 | C24: 인/회 | D24: 60 | F24: =TRUNC(D24*E24,0) -> 0 | G24: 60인×1회
A25: 2) 심포지엄
A26: - 식비 | B26: 중식 | C26: 인/회 | D26: 40 | F26: =TRUNC(D26*E26,0) -> 0 | G26: 40인×1회
A28: 4. 연사비
A29: - 하계 컨퍼런스 | B29: 분과장 | C29: 인/회 | D29: 4 | F29: =TRUNC(D29*E29,0) -> 0 | G29: 4인×1회
B30: 일반참가자 | C30: 인/회 | D30: 4 | F30: =TRUNC(D30*E30,0) -> 0 | G30: 4인×1회
A31: - 심포지엄 | B31: 분과장 | C31: 인/회 | D31: 4 | F31: =TRUNC(D31*E31,0) -> 0 | G31: 4인×1회
A33: 계 | F33: =SUM(F6:F32) -> 0
A34: 주 1) 수량 : 제시된 제안요청서 참조
A35: 2) 단가 : 시중유통거래가격 참조

Sheet 행사장임차비
A1: < 표 : 12 >
A2: =경집!$B$10&" 산출표" -> 행사장임차비 산출표
A4: =원가!$A$3 -> □ 과업명 : 2023년 중소기업 혁신 네트워크 포럼 행사 기획·운영 용역 | G4: 단위 : 원
A5: 구 분 | B5: 내 용 | C5: 단위 | D5: 수량 | E5: 단가 | F5: 금 액 | G5: 비 고
A7: 1. 하계 컨퍼런스
A8: 1) 컨퍼런스장 임차비
A9: - 연회장 | B9: 대연회장 | C9: 일 | D9: 3 | F9: =TRUNC(D9*E9,0) -> 0
A10: - 회의장 | B10: 세미나·만찬 | C10: 일 | D10: 2 | F10: =TRUNC(D10*E10,0) -> 0
A12: 2. 심포지엄
A13: 1) 심포지엄장 임차비
A14: - 연회장 | B14: 대연회장 | C14: 일 | D14: 2 | F14: =TRUNC(D14*E14,0) -> 0
A16: 계 | F16: =SUM(F6:F15) -> 0
A17: 주 1) 수량 : 제시된 제안요청서 참조
A18: 2) 단가 : 시중유통거래가격 참조

Sheet 행사장조성비
A1: < 표 : 13 >
A2: < 표 : 13 >
A4: =원가!$A$3 -> □ 과업명 : 2023년 중소기업 혁신 네트워크 포럼 행사 기획·운영 용역 | G4: 단위 : 원
A5: 구 분 | B5: 내 용 | C5: 단위 | D5: 수량 | E5: 단가 | F5: 금 액 | G5: 비 고
D6: 주 1) | E6: 주 2)
A7: 1. 행사장 조성
A8: 1) 하계 컨퍼런스
A9: - 행사장 조성 | B9: 포디움 타이틀 | C9: 종 | D9: 1 | F9: =TRUNC(D9*E9,0) -> 0
A10: - 음향 | B10: 음향시스템 일체 | C10: SET/일 | D10: 3 | F10: =TRUNC(D10*E10,0) -> 0 | G10: 1SET×3일
A11: - 조명 | B11: 조명시스템 일체 | C11: SET/일 | D11: 3 | F11: =TRUNC(D11*E11,0) -> 0 | G11: 1SET×3일
A12: - 영상 및 중계 | B12: 중계시스템(HD카메라) | C12: SET/일 | D12: 3 | F12: =TRUNC(D12*E12,0) -> 0 | G12: 1SET×3일
A13: - 녹음 | B13: 녹음 및 중계 | C13: SET/일 | D13: 3 | F13: =TRUNC(D13*E13,0) -> 0 | G13: 1SET×3일
A14: - 현수막 | B14: 현수막 (행사장 내외) | C14: EA | D14: 10 | F14: =TRUNC(D14*E14,0) -> 0
A15: - 배너 | B15: X-배너 (행사장 및 안내데스크) | C15: EA | D15: 10 | F15: =TRUNC(D15*E15,0) -> 0
A16: 2) 심포지엄
A17: - 행사장 조성 | B17: 포디움 타이틀 | C17: 종 | D17: 1 | F17: =TRUNC(D17*E17,0) -> 0
A18: - 음향 | B18: 음향시스템 일체 | C18: SET/일 | D18: 2 | F18: =TRUNC(D18*E18,0) -> 0 | G18: 1SET×2일
A19: - 조명 | B19: 조명시스템 일체 | C19: SET/일 | D19: 2 | F19: =TRUNC(D19*E19,0) -> 0 | G19: 1SET×2일
A20: - 영상 및 중계 | B20: 중계시스템(HD카메라) | C20: SET/일 | D20: 2 | F20: =TRUNC(D20*E20,0) -> 0 | G20: 1SET×2일
A21: - 녹음 | B21: 녹음 및 중계 | C21: SET/일 | D21: 2 | F21: =TRUNC(D21*E21,0) -> 0 | G21: 1SET×2일
A22: - 현수막 | B22: 현수막 (행사장 내외) | C22: EA | D22: 10 | F22: =TRUNC(D22*E22,0) -> 0
A23: - 배너 | B23: X-배너(행사장 및 안내데스크) | C23: EA | D23: 10 | F23: =TRUNC(D23*E23,0) -> 0
A25: 2. 기자재 임차
A26: 1) 하계 컨퍼런스
A27: - 컨퍼런스장 | B27: 델리게이션 마이크 | C27: EA/일 | D27: 20 | F27: =TRUNC(D27*E27,0) -> 0 | G27: 10EA×2일
B28: 음향컨트롤러 | C28: SET | D28: 1 | F28: =TRUNC(D28*E28,0) -> 0
B29: 노트북 | C29: 대/일 | D29: 6 | F29: =TRUNC(D29*E29,0) -> 0 | G29: 3대×2일
A30: 3) 등록데스크 | B30: 노트북 | C30: 대/일 | D30: 6 | F30: =TRUNC(D30*E30,0) -> 0 | G30: 3대×2일
B31: 복합기 | C31: 대/일 | D31: 4 | F31: =TRUNC(D31*E31,0) -> 0 | G31: 2대×2일
A32: 4) 운영사무국 | B32: 노트북 | C32: 대/일 | D32: 6 | F32: =TRUNC(D32*E32,0) -> 0 | G32: 3대×2일
B33: 복합기 | C33: 대/일 | D33: 4 | F33: =TRUNC(D33*E33,0) -> 0 | G33: 2대×2일
A34: 2) 춘계 심포지엄
A35: - 심포지엄장 | B35: 델리게이션 마이크 | C35: EA/일 | D35: 10 | F35: =TRUNC(D35*E35,0) -> 0 | G35: 10EA×1일
B36: 음향컨트롤러 | C36: SET | D36: 1 | F36: =TRUNC(D36*E36,0) -> 0
B37: 노트북 | C37: 대/일 | D37: 3 | F37: =TRUNC(D37*E37,0) -> 0 | G37: 3대×1일
A38: 3) 등록데스크 | B38: 노트북 | C38: 대/일 | D38: 2 | F38: =TRUNC(D38*E38,0) -> 0 | G38: 2대×1일
B39: 복합기 | C39: 대/일 | D39: 1 | F39: =TRUNC(D39*E39,0) -> 0 | G39: 1대×1일
A40: 4) 운영사무국 | B40: 노트북 | C40: 대/일 | D40: 2 | F40: =TRUNC(D40*E40,0) -> 0 | G40: 2대×1일
B41: 복합기 | C41: 대/일 | D41: 1 | F41: =TRUNC(D41*E41,0) -> 0 | G41: 1대×1일
A43: 계 | F43: =SUM(F6:F42) -> 0
A44: 주 1) 수량 : 제시된 제안요청서 참조
A45: 2) 단가 : 시중유통거래가격 참조

Sheet 행사운영비
A1: < 표 : 14 >
A2: =경집!$B$12&" 산출표" -> 행사운영비 산출표
A4: =원가!$A$3 -> □ 과업명 : 2023년 중소기업 혁신 네트워크 포럼 행사 기획·운영 용역 | G4: 단위 : 원
A5: 구 분 | B5: 내 용 | C5: 단위 | D5: 수량 | E5: 단가 | F5: 금 액 | G5: 비 고
D6: 주 1) | E6: 주 2)
A7: 1. 운영인력
A8: 1) 하계컨퍼런스
A9: - 사회자 | B9: 전문 사회자 | C9: 인/일 | D9: 1 | F9: =TRUNC(D9*E9,0) -> 0 | G9: 1인×1일
A10: - 테크니션 | B10: 음향 오퍼레이터 | C10: 인/일 | D10: 3 | F10: =TRUNC(D10*E10,0) -> 0 | G10: 1인×3일
B11: 조명 오퍼레이터 | C11: 인/일 | D11: 3 | F11: =TRUNC(D11*E11,0) -> 0 | G11: 1인×3일
B12: 영상 오퍼레이터 | C12: 인/일 | D12: 3 | F12: =TRUNC(D12*E12,0) -> 0 | G12: 1인×3일
A13: - 운영요원 | B13: 의전도우미 | C13: 인/일 | D13: 10 | F13: =TRUNC(D13*E13,0) -> 0 | G13: 5인×2일
B14: 현장 운영 스텝 | C14: 인/일 | D14: 10 | F14: =TRUNC(D14*E14,0) -> 0 | G14: 5인×2일
B15: 현장 안전 요원 | C15: 인/일 | D15: 10 | F15: =TRUNC(D15*E15,0) -> 0 | G15: 5인×2일
A16: 2) 심포지엄
A17: - 테크니션 | B17: 음향 오퍼레이터 | C17: 인/일 | D17: 2 | F17: =TRUNC(D17*E17,0) -> 0 | G17: 1인×2일
B18: 조명 오퍼레이터 | C18: 인/일 | D18: 2 | F18: =TRUNC(D18*E18,0) -> 0 | G18: 1인×2일
B19: 영상 오퍼레이터 | C19: 인/일 | D19: 2 | F19: =TRUNC(D19*E19,0) -> 0 | G19: 1인×2일
A20: - 운영요원 | B20: 의전도우미 | C20: 인/일 | D20: 2 | F20: =TRUNC(D20*E20,0) -> 0 | G20: 2인×1일
B21: 현장 운영스텝 | C21: 인/일 | D21: 5 | F21: =TRUNC(D21*E21,0) -> 0 | G21: 5인×1일
B22: 현장 안전요원 | C22: 인/일 | D22: 5 | F22: =TRUNC(D22*E22,0) -> 0 | G22: 5인×1일
A23: 2. 보험
A24: - 행사 보험 | B24: 행사 보험 가입 | C24: 식 | D24: 1 | F24: =TRUNC(D24*E24,0) -> 0
A26: 3. 등록 및 홍보
A27: - 모바일 초청장 | B27: 아젠다(E-mail/SMS) | C27: 식 | D27: 1 | F27: =TRUNC(D27*E27,0) -> 0
A28: - SNS 홍보 | B28: 파워 인플루언서 | C28: 인 | D28: 10 | F28: =TRUNC(D28*E28,0) -> 0
A30: 계 | F30: =SUM(F6:F29) -> 0
A31: 주 1) 수량 : 제시된 제안요청서 참조
A32: 2) 단가 : 시중유통거래가격 참조

Sheet 인쇄및제작물비
A1: < 표 : 15 >
A2: =경집!$B$13&" 산출표" -> 인쇄및제작물비 산출표
A4: =원가!$A$3 -> □ 과업명 : 2023년 중소기업 혁신 네트워크 포럼 행사 기획·운영 용역 | G4: 단위 : 원
A5: 구 분 | B5: 내 용 | C5: 단위 | D5: 수량 | E5: 단가 | F5: 금 액 | G5: 비 고
D6: 주 1) | E6: 주 2)
A7: 1. 디자인비
A8: - 디자인비 | B8: 키비주얼 개발 | C8: 식 | D8: 1 | F8: =TRUNC(D8*E8,0) -> 0
A10: 2. 인쇄물
A11: 1) 하계컨퍼런스
A12: - 메모패드 | B12: 바인더, 볼펜 포함 | C12: EA | D12: 60 | F12: =TRUNC(D12*E12,0) -> 0
A13: - 명찰 | B13: 목걸이형 케이스 포함 | C13: EA | D13: 60 | F13: =TRUNC(D13*E13,0) -> 0
A14: - 테이블 명패 | B14: 좌석안내용 | C14: 식 | D14: 1 | F14: =TRUNC(D14*E14,0) -> 0
A15: 2) 심포지엄
A16: - 메모패드 | B16: 바인더, 볼펜 포함 | C16: EA | D16: 40 | F16: =TRUNC(D16*E16,0) -> 0
A17: - 명찰 | B17: 목걸이형 케이스 포함 | C17: EA | D17: 40 | F17: =TRUNC(D17*E17,0) -> 0
A18: - 테이블 명패 | B18: 좌석안내용 | C18: 식 | D18: 1 | F18: =TRUNC(D18*E18,0) -> 0
A20: 3. 결과보고서 | B20: A4, 200p, 10부
A21: - 복사비 | B21: A4, 칼라 | C21: page | D21: 1000 | F21: =TRUNC(D21*E21,0) -> 0 | G21: 200page×5부×100%
A22: - 제본비 | B22: 코팅표지 | C22: 부 | D22: 5 | F22: =TRUNC(D22*E22,0) -> 0
A24: 4. 기념품
A25: - 하계컨퍼런스 | B25: 참석자 기념품 | C25: EA | D25: 60 | F25: =TRUNC(D25*E25,0) -> 0
A26: - 심포지엄 | B26: 참석자 기념품 | C26: EA | D26: 40 | F26: =TRUNC(D26*E26,0) -> 0
A28: 계 | F28: =SUM(F6:F26) -> 0
A29: 주 1) 수량 : 제시된 제안요청서 참조
A30: 2) 단가 : 시중유통거래가격 참조

Sheet 기타경비
A1: < 표 : 16 >
A2: =경집!$B$14&" 산출표" -> 기타경비 산출표
A4: =원가!$A$3 -> □ 과업명 : 2023년 중소기업 혁신 네트워크 포럼 행사 기획·운영 용역 | G4: 단위 : 원
A5: 구 분 | B5: 내 용 | C5: 단위 | D5: 수량 | E5: 단가 | F5: 금 액 | G5: 비 고
D6: 주 1) | E6: 주 2)
A7: 1. 분과위원회 운영 | B7: 회의실임차비 | C7: 실/회 | D7: 24 | F7: =TRUNC(D7*E7,0) -> 0 | G7: 4실×6회
A9: 2. 영상물 제작
A10: - 하이라이트 영상 | B10: 하이라이트 영상 제작 및 편집 | C10: 편 | D10: 2 | F10: =TRUNC(D10*E10,0) -> 0
A12: 3. 현장 기록
A13: - 사진촬영 | B13: 현장 스틸 사진 | C13: 인/일 | D13: 3 | F13: =TRUNC(D13*E13,0) -> 0 | G13: 1인×3일
A15: 4. 성과품 제출
A16: - 이동식 저장매체 | B16: 1TB 외장하드 | C16: 대 | D16: 1 | F16: =TRUNC(D16*E16,0) -> 0
A18: 계 | F18: =SUM(F6:F17) -> 0
A19: 주 1) 수량 : 제시된 제안요청서 참조
A20: 2) 단가 : 시중유통거래가격 참조

Sheet 일반(간)
A1: 일 반 관 리 비

Sheet 일반
A1: <표#4>
A2: 일반관리비 산출표
D3: 단위: 원
A4: 구 분 | C4: 금액 | D4: 비 고
A5: 배 부 대 상 금 액
B6: 인건비 | C6: =[134]원가!C10 -> 0
B7: 경비 | C7: =[134]경집!B27 -> 0
B8: 소계 | C8: =SUM(C5:C7) -> 0
A9: 일반관리비율 | C9: 0.08 | D9: 8% 이하
A10: 일반관리비 | C10: =ROUNDDOWN(C8*C9,0) -> 0
A12: 주 1) 인건비 : 인건비 산출표 참조
A13: 2) 경 비 : 경비 집계표 참조
A14: 3) 일반관리비율 : 일반관리비 비율표 참조

Sheet 이윤(간)
A1: 이 윤

Sheet 이윤
A1: <표#5>
A2: 이윤 산출표
D3: 단위: 원
A4: 구 분 | C4: 금 액 | D4: 비 고
A5: 배 부 대 상 금 액
B6: 인건비 | C6: =[134]일산!C6 -> 0
B7: 경비 | C7: =[134]경집!B27 -> 0
B8: 일반관리비 | C8: =[134]일산!C10 -> 0
B9: 소계 | C9: =SUM(C5:C8) -> 0
A10: 이윤율 | C10: =[134]이율!E9 -> 0.1 | D10: 10% 이하
A11: 이윤 | C11: =ROUNDDOWN(C9*C10,0) -> 0
A13: 주 1) 인건비 : 인건비 산출표 참조
A14: 2) 경 비 : 경비 집계표 참조
A15: 3) 일반관리비 : 일반관리비 산출표 참조
