Workbook
Name _: #REF!
Name _0: #REF!
Name _1: #REF!
Name _10dB4_: #REF!
Name _11IL1_: #REF!
Name _1IL1_: #REF!
Name _1단: #REF!
Name _2: #REF!
Name _3: #N/A
Name _3a1_: #REF!
Name _4: #REF!
Name _4DB11_: #REF!
Name _5: #REF!
Name _5DB12_: #REF!
Name _6: #REF!
Name _6DB13_: #REF!
Name _7: #REF!
Name _7DB14_: #REF!
Name _8dB2_: #REF!
Name _9dB3_: #REF!
Name _A1: #REF!
Name _A146432: #REF!
Name _A2: #REF!
Name _A3: #REF!
Name _A4: #REF!
Name _A5: #REF!
Name _A6: #REF!
Name _A69999: #REF!
Name _A7: #REF!
Name _A70013: #REF!
Name _A8: #REF!
Name _A946432: #REF!
Name _B140007: #REF!
Name _DOG1: #REF!
Name _DOG2: #REF!
Name _DOG22: #REF!
Name _DOG3: #REF!
Name _DOG33: #REF!
Name _DOG4: #REF!
Name _KK5000: #REF!
Name _LP1: #REF!
Name _LPB1: #REF!
Name _LPK1: #REF!
Name _LU1: #REF!
Name _LU2: #REF!
Name _LV01: #REF!
Name _PB1: #REF!
Name _PB2: #REF!
Name _PB3: #REF!
Name _PI48: #REF!
Name _PI60: #REF!
Name _RO110: #REF!
Name _RO22: #REF!
Name _RO35: #REF!
Name _RO45: #REF!
Name _RO60: #REF!
Name _RO80: #REF!
Name _SUB1: #REF!
Name _SUB2: #REF!
Name _SUB3: #REF!

Sheet 원가계산서(간지)
A1: 원가계산서(경비)

Sheet 원가
A1: <표#1>
A2: 원가계산서
A4: 용역명 : | B4: TIPA 세종사옥 경비 용역 | F4: 단위: 원
A5: 비목 | C5: 금액(월간) | D5: 금액(12개월) | E5: 구성비(%) | F5: 비고 | H5: 12
A6: ①인건비 | B6: =인집!A7 -> 경비 | C6: =인집!D7 -> 8031780 | D6: =C6*$H$5 -> 96381360 | F6: =인집!B7 -> 3
B7: 소 계 | C7: =SUM(C6:C6) -> 8031780 | D7: =SUM(D6:D6) -> 96381360 | E7: =ROUND(D7/$D$15,4) -> 0.8171 | F7: =SUM(F6:F6) -> 3
A8: ②경비 | B8: 사회보험료 | C8: =인집!D19 -> 779979 | D8: =C8*$H$5 -> 9359748 | F8: 산출표 참조
B9: =경집!A7 -> 복리후생비 | C9: =경집!E7 -> 341100 | D9: =C9*$H$5 -> 4093200 | F9: 〃
B10: 산업안전보건관리비 | C10: =경집!E8 -> 148587 | D10: =C10*$H$5 -> 1783044 | F10: 〃 | I10: 1 | K10: 2 | M10: 3 | O10: 4 | Q10: 5 | S10: 6 | U10: 7
B11: 소 계 | C11: =SUM(C8:C10) -> 1269666 | D11: =SUM(D8:D10) -> 15235992 | E11: =ROUND(D11/$D$15,4) -> 0.1292 | I11: A | J11: B | K11: C | L11: A | M11: B | N11: C | O11: A | P11: B | Q11: C | R11: A | S11: B | T11: C | U11: A | V11: B
A12: ③ | B12: 순용역원가 | C12: =INT(C7+C11) -> 9301446 | D12: =D7+D11 -> 111617352 | E12: =ROUND(D12/$D$15,4) -> 0.9463 | F12: (①+②) | I12: 8 | K12: 9 | M12: 10 | O12: 11 | Q12: 12 | S12: 13 | U12: 14
A13: ④ | B13: 일반관리비 | C13: =일산!B10 -> 241837 | D13: =C13*$H$5 -> 2902044 | E13: =ROUND(D13/$D$15,4) -> 0.0246 | F13: ③×2.6% | I13: C | J13: A | K13: B | L13: C | M13: A | N13: B | O13: C | P13: A | Q13: B | R13: C | S13: A | T13: B | U13: C | V13: A
A14: ⑤ | B14: 이윤 | C14: =이윤!B11 -> 286298 | D14: =C14*$H$5 -> 3435576 | E14: =ROUND(D14/$D$15,4) -> 0.0291 | F14: (③+④)×3%
A15: ⑥ | B15: 총용역원가 | C15: =SUM(C12:C14) -> 9829581 | D15: =SUM(D12:D14) -> 117954972 | E15: =ROUND(D15/$D$15,4) -> 1 | F15: ③+④+⑤
A16: ⑦ | B16: 부가가치세 | C16: =INT(C15*10%) -> 982958 | D16: =INT(D15*10%) -> 11795497 | F16: ⑥×10%
A17: ⑧ | B17: 합계 | C17: =SUM(C15:C16) -> 10812539 | D17: =SUM(D15:D16) -> 129750469 | F17: ⑥+⑦

Sheet 인집
A1: <표#2>
A2: 인건비·사회보험료 집계표
A4: 1. 인건비 집계표 | E4: 단위: 원/월
A5: 직무 | B5: 소요인원 | C5: 인건비단가(1인당) | D5: 금액 | E5: 비고
A7: 경비 | B7: 3 | C7: =인산!C15 -> 2677260 | D7: =INT(B7*C7) -> 8031780
A8: 인건비 계 | B8: =SUM(B7:B7) -> 3 | C8: =SUM(C7:C7) -> 2677260 | D8: =SUM(D7:D7) -> 8031780
A10: 주1) 1인당 인건비 : <표#2-1>~<표#2-4> 참조
A11: 2) 월간금액 : 소요인원 × 1인당 인건비
A12: 3) 근로시간(보안) : 주간 오전(7:30~14:30), 야간(14:00~22:00), 휴게시간 오전/야간 각1 시간
A13: 4) 근로시간(안내) : 08:00~17:00, 휴게시간 1시간
A15: 2. 사회보험료 집계표 | E15: 단위: 원/월
A16: 직무 | B16: 소요인원 | C16: 인건비단가(1인당) | D16: 금액 | E16: 비고
A18: =A7 -> 경비 | B18: =B7 -> 3 | C18: =인산!C24 -> 259993.04 | D18: =INT(B18*C18) -> 779979
A19: 사회보험료 계 | B19: =SUM(B18:B18) -> 3 | C19: =SUM(C18:C18) -> 259993.04 | D19: =SUM(D18:D18) -> 779979
A21: 주1) 1인당 사회보험료 : <표#2-1> ~ <표#2-4> 참조
A22: 2) 월간금액 : 소요인원 × 1인당 사회보험료

Sheet 인산
A1: <표#2-1>
A2: 경비원 인건비 산출(1인당)
D4: 단위: 원/월
A5: 비목 | C5: 금액 | D5: 비고
A6: ① 인 건 비 | B6: 가. 기본급 | C6: =INT(노임!D6*J6) -> 2194470 | D6: 시급×195시간((16시간×7일+주휴22.4시간)×4.35주/3인) | F6: 주휴수당=(1주 소정근로시간/40)×8시간 | I6: =(16*7/40)*8 -> 22.4 | J6: =((16*7+22.4)*4.35)/3 -> 194.88 | L6: 2025년 상반기 | P6: 2025년 공휴일
B7: 나. 제수당 | C7: =SUM(C8:C11) -> 262916 | D7: (1) ~ (5) | L7: 토요일 | M7: 일요일 | N7: 공휴일 | P7: 1월 | Q7: 1-새해첫날 | R7: 2-30 설날 | S7: 29-설날
B8: (1) 연차수당 | C8: =INT((노임!C7*J8)/I8) -> 80620 | D8: 통상일급×11일/12개월 | I8: 12 | J8: 11 | L8: 26 | M8: 26 | N8: 10 | P8: 2월 | Q8: 1-삼일절 | R8: 3-삼일절대체
B9: (2) 연장근로수당 | C9: =INT(노임!D7*J9*1.5) -> 0 | D9: 통상시급×연장근로수당×150% | L9: 1-삼일절 | N9: =N8-1 -> 9 | P9: 3월
B10: (3) 야간근로수당 | C10: =INT(노임!D7*J10*0.5) -> 119503 | D10: 통상시급×20시간(7일×2시간×4.35주)/3인)×50% | F10: 22시~06시까지 야간근로 | J10: =(((7*2)*4.35)/3) -> 20.3 | P10: 4월
B11: (4) 휴일근로수당 | C11: =INT(노임!D7*J11*1.5) -> 62793 | D11: 통상시급×4시간(16일×8시간/12개월/3인)×150% | F11: 법정공휴일 16일(대체휴일, 근로자의날 포함) | J11: =16*8/12/3 -> 3.5555556 | L11: 2025년 하반기 | P11: 5월 | Q11: 1-근로자의날 | R11: 5-어린이날,부처님오신날 | S11: 6-어린이날대체
B12: 휴일야간수당 | C12: =INT(노임!D7*J12*2) -> 20931 | D12: 통상시급×1시간(16일×2시간/12개월/3인)×200% | I12: 야간 | J12: =16*2/12/3 -> 0.88888889 | L12: 토요일 | M12: 일요일 | N12: 공휴일 | P12: 6월 | Q12: 6-현충일
B13: 다.상여금 | C13: =INT((C6*J13)/12) -> 0 | D13: 기본급×400%이하, 0% 적용 | I13: 적용 | J13: 0 | L13: 26 | M13: 26 | N13: 7 | P13: 7월
B14: 라.퇴직충당금 | C14: =INT((노임!C7*30/12)) -> 219874 | D14: 통상일급×30일/12월 | N14: 7 | P14: 8월 | Q14: 15-광복절
B15: 계 | C15: =C6+C7+C13+C14 -> 2677260 | P15: 9월
A16: ② 사 회 보 험 | B16: 가. 보험료 및 연금 | D16: 사회보험료율 참조 | L16: 합계 | P16: 10월 | Q16: 3-개천절 | R16: 6-8 추석(대체1일) | S16: 9-한글날
B17: (1) 산업재해보험 | C17: =INT($C$6+$C$7+$C$13)*보험!D5 -> 21133.52 | D17: 수령액×0.86% | L17: 토요일 | M17: 일요일 | N17: 공휴일 | P17: 11월
B18: (2) 고용보험 | C18: =INT($C$6+$C$7+$C$13)*보험!D6 -> 28259.939 | D18: 수령액×1.15% | L18: =L8+L13 -> 52 | M18: =M8+M13 -> 52 | N18: =N9+N14 -> 16 | P18: 12월 | Q18: 25-성탄절
B19: (3) 국민건강보험 | C19: =INT($C$6+$C$7+$C$13)*보험!D7 -> 87114.334 | D19: 수령액×3.545% | P19: 1월
B20: (4) 노인장기요양보험 | C20: =INT(C19*보험!D8) -> 11281 | D20: 건강보험료×12.95% | P20: 2월
B21: (5) 국민연금 | C21: =INT($C$6+$C$7+$C$13)*보험!D9 -> 110582.37 | D21: 표준보수액×4.5%
B22: (6) 임금채권보장보험 | C22: =INT($C$6+$C$7+$C$13)*보험!D10 -> 1474.4316 | D22: 수령액×0.06%
B23: (7) 석면피해분담금 | C23: =INT($C$6+$C$7+$C$13)*보험!D11 -> 147.44316 | D23: 수령액×0.006%
B24: 계 | C24: =SUM(C17:C23) -> 259993.04
A25: 합계 | C25: =C15+C24 -> 2937253 | D25: ① + ②

Sheet 노임
A1: <표#2-3>
A2: 노임 단가표
E4: 단위 : 원
A5: 업무분야 | B5: 적용직종 | C5: 일급 (근무시간 적용) | D5: 시급 (공표노임) | E5: 비고
A6: 경비원 | B6: 단순노무종사원 | C6: =D6*8 -> 90085 | D6: =G18/8 -> 11260.625
B7: 통상임금 | C7: =D7*7.47 -> 87949.974 | D7: =I15 -> 11773.758 | G7: 경비원 | H7: 근무시간 | I7: =인산!J6 -> 194.88
A9: 주1) 노임적용기준 : 중소기업 중앙회 발표(2023. 11.), 2024년 상반기 적용 제조부문 노임단가 | G9: 통상임금 항목 | H9: 금액 | I9: 통상임금 시급
A10: * 시설물관리용역의 경우 「통계법」 제17조의 규정에 따라 중소기업중앙회가 발표하는 '중소제조업 직종별 | G10: 기본급 | H10: =인산!C6 -> 2194470
A11: 임금조사 보고서'의 단순노무종사원 노임(다만, 임금조사 보고서상 해당직종의 노임이 있는 종사원에 | G11: 상여금 | H11: =인산!C13 -> 0
A12: 대하여는 해당직종의 노임을 적용한다.(예정가격작성기준 제30조 ②항의 1) | G12: 식비 | H12: =복리후생비!F8 -> 100000
A13: 2) 직종 해설 : | G13: 교통비 | H13: =복리후생비!F9 -> 0
A14: 127 - 단순노무종사원 : 각 생산라인의 단순작업이나 식당 및 현장의 경비원 등 열거되지 아니한 | G14: 고정수당 | H14: 0
A15: 단순작업 및 보조원으로 일하는 사람 | G15: 합계 | H15: =SUM(H10:H14) -> 2294470 | I15: =H15/I7 -> 11773.758
A16: 3) 단순노무종사원 노임단가가 국가계약법 최저낙찰률(87.995%) 적용 시 약 9,909원으로 계약금액에서
A17: 최저임금보다 크기 때문에 단순노무종사원 노임단가를 사용 | G17: 단순노무종사원 | H17: 시급 | I17: 낙찰율적용
A18: * 기획재정부예규 제653호(2023.6.16.) 제5절 제30조 ③항 | G18: 90085 | H18: =G18/8 -> 11260.625 | I18: =H18*$D$19 -> 9908.787
A19: 최저시급 : | B19: 9860 | C19: 낙찰율 : | D19: 0.87995
A20: * 2024년 최저임금 : 고용노동부 고시 제2023-43호

Sheet 보험
A1: <표#2-4>
A2: 사회보험료율
A4: 보 험 종 류 | D4: 보 험 요 율
A5: 산업재해보험 | D5: 0.0086
A6: 고용보험 | D6: 0.0115
A7: 국민건강보험 | D7: 0.03545
A8: 노인장기요양보험 | D8: 0.1295
A9: 국민연금 | D9: =0.045%*100 -> 0.045
A10: 임금채권보장기금 | D10: =0.6/1000 -> 0.0006
A11: 석면피해구제분담금 | D11: 6e-05
A13: 주1) 보험료 적용 대상금액 : 월인건비 - 퇴직급여충당금
A14: 2) 산업재해보험 : 시설관리및사업지원서비스업의 요율, 고용보험 및 산업재해보상보험의 보험료 징수 등에
A15: 관한 법률 시행규칙 제12조 및 제12조의2에 따라 규정에 의거, 노동부고시 제2024-1호(2024.1.5.)
A16: 3) 고용보험 : 150인 미만 기업, 고용보험 및 산업재해보상보험의 보험료징수 등에 관한 법률 시행령 제12조
A17: 4) 국민건강보험 : 국민건강보험법 시행령 제44조
A18: 5) 노인장기요양보험 : 노인장기요양보험법 시행령 제4조
A19: 6) 국민연금 : 국민연금법 제88조 ③항
A20: 7) 임금채권보장기금 : 임금채권보장법 시행령 제13조, 노동부고시 제2022-94호(2022.12.30.)
A21: 8) 석면피해구제분담금 : (요율 6/100,000), 석면피해구제법 제32조, 환경부고시 제2023-272호(2023.12.1.)
A22: * 상시근로자수가 20명 이상으로서 산재보험관계가 성립되어 있는 사업장

Sheet 경집
A1: <표#3>
A2: 경비집계표
F4: 단위 : 원/월
A5: 구분 | B5: 단위 | C5: 수량 | D5: 단가 | E5: 금액 | F5: 비고
A6: 사회보험료 | B6: 인 | C6: 3 | D6: =인집!C18 -> 259993.04 | E6: =INT(C6*D6) -> 779979 | F6: 산출표 참조
A7: =복리후생비!A2 -> 복리후생비 | B7: 인 | C7: =인집!B8 -> 3 | D7: =복리후생비!F32 -> 113700 | E7: =INT(C7*D7) -> 341100 | F7: 〃
A8: 산업안전보건관리비 | B8: 식 | C8: 1 | D8: =산업안전보건관리비!F32 -> 148587 | E8: =INT(C8*D8) -> 148587 | F8: 〃
A34: 계 | D34: =SUM(D7:D33) -> 262287 | E34: =SUM(E6:E33) -> 1269666

Sheet 복리후생비
A1: <표#3-1>
A2: 복리후생비
G4: 단위: 원/월/인당
A5: 구분 | B5: 규격 | C5: 단위 | D5: 수량 | E5: 단가 | F5: 금액 | G5: 비고
A6: 피복비 | B6: 1년 2착 | C6: 착 | D6: 1 | E6: 9500 | F6: =INT(D6*E6) -> 9500
A7: 작업화 | B7: 1년 2회 | C7: 착 | D7: 1 | E7: 4200 | F7: =INT(D7*E7) -> 4200
A8: 식비지원 | B8: 1식 5,000원씩 | C8: 일 | D8: 20 | E8: 5000 | F8: =INT(D8*E8) -> 100000
A32: 합계 | F32: =SUM(F6:F31) -> 113700
A34: 주1) (사)한국건물위생관리협회, 2024년 건물위생관리업(청소) 표준도급비 준용

Sheet 감가상각비
A1: <표#3-2>
A2: 감가상각비
G3: 단위: 원,월/인당
A4: 구분 | B4: 규격 | C4: 단위 | D4: 수량 | E4: 단가 | F4: 금액 | G4: 비고
A6: 피복비 | C6: 식 | D6: 1 | E6: 9500 | F6: =INT(D6*E6) -> 9500 | G6: 주 1)
A7: 작업화 | C7: 식 | D7: 1 | E7: 4200 | F7: =INT(D7*E7) -> 4200 | G7: 주 2)
A8: 식비지원 | C8: 일 | D8: 20 | E8: 5000 | F8: =INT(D8*E8) -> 100000 | G8: 주 3)
A9: 교통비 | C9: 일 | D9: 20 | E9: 3000 | F9: =INT(D9*E9) -> 60000 | G9: 주 4)
A10: 체력단련비 | C10: 식 | D10: 1 | E10: 6800 | F10: =INT(D10*E10) -> 6800 | G10: 주 5)
A23: 합계 | F23: 0
A25: 주 1) (사)한국건물위생관리협회 원가계산 기준, 1년 2착(동,하복) 및 외곽 작업요원의 방한복 1착
A26: 2) (사)한국건물위생관리협회 원가계산 기준, 1년 2회 지급
A27: 3) (사)한국건물위생관리협회 원가계산 기준, 1식 5,000원씩 지급
A28: 4) (사)한국건물위생관리협회 원가계산 기준, 1일 3,000원씩 20일 지급
A29: 5) (사)한국건물위생관리협회 원가계산 기준, 1년 2회 지급

Sheet 세금과공과
A1: <표#3-2>
A2: 세금과 공과
G3: 단위: 원,월/인당
A4: 구분 | B4: 규격 | C4: 단위 | D4: 수량 | E4: 단가 | F4: 금액 | G4: 비고
A6: 지방소득세 | B6: 해당없음 | F6: =INT(D6*E6) -> 0 | G6: 주 1)
A7: 장애인고용분담금 | B7: 해당없음 | F7: =INT(D7*E7) -> 0 | G7: 주 2)
A8: 석면피해구제분담금 | B8: 해당없음 | F8: =INT(D8*E8) -> 0 | G8: 주 3)
A21: 합계 | F21: =SUM(F6:F20) -> 0
A23: 주 1) 지방소득세 : 지방세법 제84조의2 종업원분의 표준세율은 종업원 급여총액의 1천분의 5로한다.
A24: * 84조의4에 의거 해당사업소의 종업원 수가 50명 이하인 경우에는 종업원분을 부과하지 아니한다
A25: 2) 장애인고용분담금 : 장애인고용촉진및직업재활법 제33조
A26: 의무고용률에 못 미치는 장애인을 고용하는 사업주(상시 50명 이상 100명 미만의 근로자를 고용하는 사업주는
A27: 제외한다)는 대통령령으로 정하는 바에 따라 매년 고용노동부장관에게 장애인 고용부담금(이하 "부담금"이라
A28: 한다)을 납부하여야 한다.

Sheet 산업안전보건관리비
A1: <표#3-2>
A2: 산업안전보건관리비
G4: 단위: 원/월
A5: 구분 | B5: 규격 | C5: 단위 | D5: 수량 | E5: 단가 | F5: 금액 | G5: 비고
A6: 산업안전보건관리비 | B6: 인건비의 1.85% | C6: % | D6: 1.85 | E6: =인집!D8 -> 8031780 | F6: =INT(D6%*E6) -> 148587
A32: 합계 | F32: =SUM(F6:F31) -> 148587
A34: 주1) 건설업 산업안전보건관리비 계상 및 사용기준(고용노동부고시 제2023-49호)의 별표 1 준용

Sheet 일산
A1: <표#4>
A2: 일반관리비 산출표
C4: 단위 : 원/월
A5: 구분 | B5: 금액 | C5: 비고
A6: 인건비 | B6: =인집!D8 -> 8031780
A7: 경비 | B7: =경집!E34 -> 1269666
A8: 소계 | B8: =SUM(B6:B7) -> 9301446
A9: 일반관리비율 | B9: 0.026 | C9: 9% 이하
A10: 일반관리비 | B10: =INT(B8*B9) -> 241837
A12: 주1) 인건비 : <표#2> 인건비·사회보험료 집계표 참조
A13: 2) 경 비 : <표#3> 경비 집계표 참조
A14: 3) 일반관리비율 : <표#4-1> 일반관리비율표 참조

Sheet 일율
A1: <표#4-1>
A2: 일반관리비율표
B4: 업종 | K4: 일반관리비율(%)
B6: 1. 공사 | K6: 0.06
B7: 2. 음·식료품의 제조·구매 | K7: 0.14
B8: 3. 섬유·의복·가죽제품의 제조·구매 | K8: 0.08
B9: 4. 나무·나무제품의 제조·구매 | K9: 0.09
B10: 5. 종이·종이제품·인쇄출판물의 제조·구매 | K10: 0.14
B11: 6. 화학·석유·석탄·고무·플라스틱 제품의 제조·구매 | K11: 0.08
B12: 7. 비금속광물제품의 제조·구매 | K12: 0.12
B13: 8. 제1차 금속제품의 제조·구매 | K13: 0.06
B14: 9. 조립금속제품·기계·장비의 제조·구매 | K14: 0.07
B15: 10. 수입물품의 구매 | K15: 0.08
B16: 11. 기타 물품의 제조·구매 | K16: 0.11
B17: 12. 폐기물 처리·재활용 용역 | K17: 0.1
... B22: 17. 기타 용역 | K22: 0.06
A24: 주) 국가를 당사자로 하는 계약에 관한 법률 시행규칙 제8조에 의거

Sheet 이윤
A1: <표#5>
A2: 이윤 산출표
C4: 단위: 원/월
A5: 구분 | B5: 금액 | C5: 비고
A6: 인건비 | B6: =일산!B6 -> 8031780
A7: 경비 | B7: =일산!B7 -> 1269666
A8: 일반관리비 | B8: =일산!B10 -> 241837
A9: 소계 | B9: =SUM(B6:B8) -> 9543283
A10: 이윤율 | B10: 0.03 | C10: 10% 이하
A11: 이윤 | B11: =INT(B9*B10) -> 286298
A13: 주1) 인건비 : <표#2> 인건비·사회보험료 집계표 참조
A14: 2) 경 비 : <표#3> 경비 집계표 참조
A15: 3) 일반관리비 : <표#4> 일반관리비 산출표 참조

Sheet 이율
A1: <표#5-1>
A2: 이윤율
B4: 구분 | E4: 이윤율 | H4: 비고
B6: 1.공사 | E6: 0.15
B7: 2.제조·구매 | E7: 0.25
B8: 3.수입물품의 구매 | E8: 0.1
B9: 4.용역 | E9: 0.1
A11: 주) 국가를 당사자로 하는 계약에 관한 법률 시행규칙 제8조에 의거
