Workbook
Name _: #REF!
Name _: #REF!
Name ______DOG1: #REF!
Name ______DOG1: #REF!
Name ______DOG2: #REF!
Name ______DOG2: #REF!
Name ______DOG3: #REF!
Name ______DOG3: #REF!
Name ______DOG4: #REF!
Name ______DOG4: #REF!
Name ______PI48: #REF!
Name ______PI48: #REF!
Name ______PI60: #REF!
Name ______PI60: #REF!
Name ______RO110: #REF!
Name ______RO110: #REF!
Name ______RO22: #REF!
Name ______RO22: #REF!
Name ______RO35: #REF!
Name ______RO35: #REF!
Name ______RO60: #REF!
Name ______RO60: #REF!
Name ______RO80: #REF!
Name ______RO80: #REF!
Name ______TON1: #REF!
Name ______TON1: #REF!
Name ______TON2: #REF!
Name ______TON2: #REF!
Name ______WW2: #REF!
Name ______WW2: #REF!
Name ______WW6: #REF!
Name ______WW6: #REF!
Name ____DOG22: #REF!
Name ____DOG22: #REF!
Name ____DOG33: #REF!
Name ____DOG33: #REF!
Name ____KK5000: #REF!
Name ____KK5000: #REF!
Name ____PB1: #REF!
Name ____PB1: #REF!
Name ____PB2: #REF!
Name ____PB2: #REF!
Name ____PB3: #REF!
Name ____PB3: #REF!
Name ____RO45: #REF!
Name ____RO45: #REF!
Name ____WW3: #REF!
Name ____WW3: #REF!
Name ____WW7: #REF!
Name ____WW7: #REF!
Name ____WW8: #REF!
Name ____WW8: #REF!
Name ___DOG1: #REF!
Name ___DOG1: #REF!
Name ___DOG2: #REF!
Name ___DOG2: #REF!
Name ___DOG22: #REF!
Name ___DOG22: #REF!
Name ___DOG3: #REF!
Name ___DOG3: #REF!

Sheet ECSYSTEM

Sheet 목차
A2: 목 차
A4: Ⅰ. | B4: 예정원가조사결과 ----------------------------------------------------------------------- | D4: 1
A5: Ⅱ. | B5: 원가계산의 개요 -------------------------------------------------------------------- | D5: 3
A6: Ⅲ. | B6: 원가비목별계산기준 ------------------------------------------------------------------ | D6: 6
A7: Ⅳ. | B7: 용역원가계산서 -------------------------------------------------------------------------- | D7: 10
A8: Ⅴ. | B8: 산출근거 --------------------------------------------------------------------------- | D8: 12
B9: 1. | C9: 인건비 -------------------------------------------------------------------- | D9: 13
B10: 2. | C10: 경비 -------------------------------------------------------------------- | D10: 23
B11: 3. | C11: 일반관리비 -------------------------------------------------------------------- | D11: 34
B12: 4. | C12: 이윤 -------------------------------------------------------------------- | D12: 37
B13: 5. | C13: 기업경영분석자료 -------------------------------------------------------------------- | D13: 40

Sheet 간지1
A1: [ 중소기업기술정보진흥원 파견사업주 선정 ]
C9: Ⅰ. 예정원가조사결과

Sheet 간지2
A1: =간지1!A1 -> [ 중소기업기술정보진흥원 파견사업주 선정 ]
C9: Ⅱ. 원가조사의 개요

Sheet 간지3
A1: =간지2!A1 -> [ 중소기업기술정보진흥원 파견사업주 선정 ]
C9: Ⅲ. 원가비목별계산기준

Sheet 간지4
A1: =간지3!A1 -> [ 중소기업기술정보진흥원 파견사업주 선정 ]
C9: Ⅳ. 용역원가계산서

Sheet 원가계산
A1: Ⅳ. 용역원가계산서
M3: 단위 : 원/월
D4: 구 분 | F4: 일반사무 용역비 | I4: 비서 용역비 | L4: 계 | M4: 비 고
A5: 비 목 | F5: 투입 인원 | G5: 단위(1인)당 월간용역비 | H5: 소 계 | I5: 투입 인원 | J5: 단위(1인)당 월간용역비 | K5: 소 계
A6: 인건비 | B6: 기 본 급 | F6: =투입인원!D7 -> 12 | H6: =TRUNC(F6*G6,0) -> 0 | I6: =투입인원!D8 -> 1 | K6: =TRUNC(I6*J6,0) -> 0 | L6: =H6+K6 -> 0 | M6: 주1) | N6: < 표 : 2 > 참조
B7: 제수당(연차수당) | F7: =F6 -> 12 | H7: =TRUNC(F7*G7,0) -> 0 | I7: =I6 -> 1 | K7: =TRUNC(I7*J7,0) -> 0 | L7: =H7+K7 -> 0
B8: 상 여 금 | F8: =F7 -> 12 | H8: =TRUNC(F8*G8,0) -> 0 | I8: =I7 -> 1 | K8: =TRUNC(I8*J8,0) -> 0 | L8: =H8+K8 -> 0
B9: 퇴 직 급 여 충 당 금 | F9: =F8 -> 12 | H9: =TRUNC(F9*G9,0) -> 0 | I9: =I8 -> 1 | K9: =TRUNC(I9*J9,0) -> 0 | L9: =H9+K9 -> 0
B10: 계 | H10: =SUM(H6:H9) -> 0 | K10: =SUM(K6:K9) -> 0 | L10: =H10+K10 -> 0
A11: 경비 | B11: 보 험 료 | D11: 산재보험료 | F11: =F9 -> 12 | H11: =TRUNC(F11*G11,0) -> 0 | I11: =I9 -> 1 | K11: =TRUNC(I11*J11,0) -> 0 | L11: =H11+K11 -> 0 | M11: 주2) | N11: < 표 : 9 > 참조
D12: 국민연금 | F12: =F11 -> 12 | H12: =TRUNC(F12*G12,0) -> 0 | I12: =I11 -> 1 | K12: =TRUNC(I12*J12,0) -> 0 | L12: =H12+K12 -> 0
D13: 고용보험료 | F13: =F12 -> 12 | H13: =TRUNC(F13*G13,0) -> 0 | I13: =I12 -> 1 | K13: =TRUNC(I13*J13,0) -> 0 | L13: =H13+K13 -> 0
D14: 국민건강보험료 | F14: =F13 -> 12 | H14: =TRUNC(F14*G14,0) -> 0 | I14: =I13 -> 1 | K14: =TRUNC(I14*J14,0) -> 0 | L14: =H14+K14 -> 0
D15: =경비산출표!C11 -> 노인장기요양보험료 | F15: =F14 -> 12 | H15: =TRUNC(F15*G15,0) -> 0 | I15: =I14 -> 1 | K15: =TRUNC(I15*J15,0) -> 0 | L15: =H15+K15 -> 0
D16: 임금채권보장보험료 | F16: =F15 -> 12 | H16: =TRUNC(F16*G16,0) -> 0 | I16: =I15 -> 1 | K16: =TRUNC(I16*J16,0) -> 0 | L16: =H16+K16 -> 0
B17: =경비산출표!A13 -> 교통통신비 | L17: =[103]경비산출표!G13 -> 1365000
B18: =경비산출표!A14 -> 식비 | L18: =[103]경비산출표!G14 -> 1819818
B19: 계
A20: 순 용 역 원 가
A21: 일 반 관 리 비(8%) | M21: 주3) | N21: < 표 : 18 > 참조
A22: 이 윤(10%) | M22: 주4) | N22: < 표 : 20 > 참조
A23: 용 역 원 가
A24: 부 가 가 치 세(10%)
A25: 합 계
A26: 과업기간(개월) | L26: 10
A27: 총용역비 | L27: =TRUNC(L25*L26,) -> 0
A28: ="주1) "&A6&" : "&단위당인건비!A1&단위당인건비!A2&" 참조" -> 주1) 인건비 : < 표 : 2 > 직무별(1인) 인건비산출표 참조
A29: ="주2) "&A11&" : "&경비산출표!A1&경비산출표!A2&" 참조" -> 주2) 경비 : < 표 : 9 > 직무별 경비집계표 참조
A30: ="주3) 일반관리비 : "&일반!A1&일반!A2&" 참조" -> 주3) 일반관리비 : < 표 : 15 > 일반관리비산출표 참조
A31: ="주4) 이윤 : "&이윤!A1&이윤!A2&" 참조" -> 주4) 이윤 : < 표 : 17 > 이윤산출표 참조

Sheet 간지5
A1: =간지4!A1 -> [ 중소기업기술정보진흥원 파견사업주 선정 ]
C8: Ⅴ. 산출근거
C10: 1. | D10: 인건비
C11: 2. | D11: 경비
C12: 3. | D12: 일반관리비
C13: 4. | D13: 이윤
C14: 5. | D14: 기업경영분석자료

Sheet 간지5-1
A1: =간지5!A1 -> [ 중소기업기술정보진흥원 파견사업주 선정 ]
C7: 1. 인건비
C9: =+인건비집계!A1 -> < 표 : 1 > | D9: =+인건비집계!A2 -> 직무별(1인) 인건비집계표
C10: =+단위당인건비!A1 -> < 표 : 2 > | D10: =+단위당인건비!A2 -> 직무별(1인) 인건비산출표
C11: =+단가대비표!A1 -> < 표 : 3 > | D11: =+단가대비표!A2 -> 월(M/M)당기본급 산출표
C12: =+산정기준!A1 -> < 표 : 4 > | D12: =+산정기준!A2 -> 인건비산정기준 및 관련법규
C13: =+근무형태!A1 -> < 표 : 5 > | D13: =+근무형태!A2 -> 직종별 근무형태 현황표
C14: =+투입인원!A1 -> < 표 : 6 > | D14: =+투입인원!A2 -> 적용직종 및 투입인원산정표
C15: =+근무일수!A1 -> < 표 : 7 > | D15: =+근무일수!A2 -> 용역기간현황표
C16: =+작업범위!A1 -> < 표 : 8 > | D16: =+작업범위!A2 -> 운영 및 업무범위

Sheet 인건비집계
A1: < 표 : 1 >
A2: 직무별(1인) 인건비집계표
H4: 단위 : 원/월
A5: 구 분 | B5: 직 책 | C5: 기본급 | D5: 제수당 | E5: 상여금 | F5: 퇴직급여 충당금 | G5: 계 | H5: 비 고
A7: =단가대비표!A7 -> 사무 | B7: =단가대비표!B8 -> 일반사무 | G7: =SUM(C7:F7) -> 0
B8: =단가대비표!B9 -> 비서 | G8: =SUM(C8:F8) -> 0
A10: ="주) "&단위당인건비!A1&단위당인건비!A2&" 참조" -> 주) < 표 : 2 > 직무별(1인) 인건비산출표 참조

Sheet 단위당인건비
A1: < 표 : 2 >
A2: 직무별(1인) 인건비산출표
A4: ="구분 : "&단가대비표!A7 -> 구분 : 사무 | E4: ="직무 : "&단가대비표!B8 -> 직무 : 일반사무 | H4: 단위 : 원/월 | I4: 209
A5: 비 목 | E5: 금 액 | G5: 관 련 법 규 | H5: 비 고
A6: 기본급 | G6: 시중노임단가를 기준 | H6: 주 1)
A7: 제수당 | C7: 연차수당 | E7: =TRUNC(E6/$I$4*8*15/12,0) -> 0 | G7: 근로기준법 제 60조 | H7: 주 2)
A8: 상여금 | E8: =TRUNC(E6*J8/12,0) -> 0 | G8: 예정가격 작성기준 제 26조 | H8: 주 3) | J8: 4
A9: 퇴직급여충당금 | E9: =TRUNC(SUM(E6,E7,E8)/12,0) -> 0 | G9: 근로자퇴직급여 보장법 제8조 | H9: 주 4)
A10: 계 | E10: =SUM(E6:E9) -> 0
A11: ="주 1) 기본급 : "&단가대비표!$A$1&단가대비표!$A$2&" 참조" -> 주 1) 기본급 : < 표 : 3 > 월(M/M)당기본급 산출표 참조
A12: =" 2) 년차수당 : "&FIXED(E6,0)&"(기본급)÷"&$I$4&"(월근로시간)×8시간(일근로시간)×15일/년÷12개월" -> 2) 년차수당 : 0(기본급)÷209(월근로시간)×8시간(일근로시간)×15일/년÷12개월
A13: =" 3) 상여금 : "&FIXED(E6,0)&"(기본급)×4개월(년 400%적용)÷12개월" -> 3) 상여금 : 0(기본급)×4개월(년 400%적용)÷12개월
A14: =" 4) 퇴직급여충당금 : {"&FIXED(E6,0)&"(기본급) + "&FIXED(E7,0)&"(제수당) + "&FIXED(E8,0)&"(상여금)}÷12개월" -> 4) 퇴직급여충당금 : {0(기본급) + 0(제수당) + 0(상여금)}÷12개월
A16: 직무별(1인) 인건비산출표
A18: ="구분 : "&단가대비표!A7 -> 구분 : 사무 | E18: ="직무 : "&단가대비표!B9 -> 직무 : 비서 | H18: 단위 : 원/월
A19: 비 목 | E19: 금 액 | G19: 관 련 법 규 | H19: 비 고
A20: 기본급 | G20: 시중노임단가를 기준 | H20: 주 1)
A21: 제수당 | C21: 연차수당 | E21: =TRUNC(E20/$I$4*8*15/12,0) -> 0 | G21: 근로기준법 제 60조 | H21: 주 2)
A22: 상여금 | E22: =TRUNC(E20*J22/12,0) -> 0 | G22: 예정가격 작성기준 제 26조 | H22: 주 3) | J22: =J8 -> 4
A23: 퇴직급여충당금 | E23: =TRUNC(SUM(E20,E21,E22)/12,0) -> 0 | G23: 근로자퇴직급여 보장법 제8조 | H23: 주 4)
A24: 계 | E24: =SUM(E20:E23) -> 0
A25: ="주 1) 기본급 : "&단가대비표!$A$1&단가대비표!$A$2&" 참조" -> 주 1) 기본급 : < 표 : 3 > 월(M/M)당기본급 산출표 참조
A26: =" 2) 년차수당 : "&FIXED(E20,0)&"(기본급)÷"&$I$4&"(월근로시간)×8시간(일근로시간)×15일/년÷12개월" -> 2) 년차수당 : 0(기본급)÷209(월근로시간)×8시간(일근로시간)×15일/년÷12개월
A27: =" 3) 상여금 : "&FIXED(E20,0)&"(기본급)×4개월(년 400%적용)÷12개월" -> 3) 상여금 : 0(기본급)×4개월(년 400%적용)÷12개월
A28: =" 4) 퇴직급여충당금 : {"&FIXED(E20,0)&"(기본급) + "&FIXED(E21,0)&"(제수당) + "&FIXED(E22,0)&"(상여금)}÷12개월" -> 4) 퇴직급여충당금 : {0(기본급) + 0(제수당) + 0(상여금)}÷12개월

Sheet 단가대비표
A1: < 표 : 3 >
A2: 월(M/M)당기본급 산출표
H4: 단위 : 원/월
A5: 구 분 | B5: 직 책 | C5: 적 용 직 종 주1) | E5: 일(M/D)당 기본급 | F5: 월기준 일수 | G5: 월(M/M)당 기본급 | H5: 비 고
C6: 직종번호 | D6: 직 종 명
A7: =투입인원!A7 -> 사무 | E7: 주 2) | F7: 주 3) | G7: 주 4)
B8: =근무형태!B7 -> 일반사무 | C8: 제조-135 | D8: 단순노무종사원 | F8: =근무일수!O7 -> 21 | G8: =TRUNC(F8*E8,0) -> 0
B9: =근무형태!B8 -> 비서 | C9: 제조-135 | D9: 단순노무종사원 | F9: =F8 -> 21 | G9: =TRUNC(F9*E9,0) -> 0
A10: ="주 1) 적용직종 : 제시된 제안요청서 및 용역업무의 특성을 감안하여 유사 직종을 적용하였음" -> 주 1) 적용직종 : 제시된 제안요청서 및 용역업무의 특성을 감안하여 유사 직종을 적용하였음
A11: =" 2) 일(M/D)당기본급 : 중소기업중앙회에서 조사 공표한 해당직종 2016년도 시중노임단가 기준" -> 2) 일(M/D)당기본급 : 중소기업중앙회에서 조사 공표한 해당직종 2016년도 시중노임단가 기준
A12: =" 3) 월기준일수 : "&산정기준!A1&산정기준!A2&" 참조" -> 3) 월기준일수 : < 표 : 4 > 인건비산정기준 및 관련법규 참조
A13: 4) 월(M/M)당기본급 : 일(M/D)당기본급×월근로일수

Sheet 산정기준
A1: < 표 : 4 >
A2: 인건비산정기준 및 관련법규
A5: 비 목 | E5: 관 련 법 규 | F5: 산 정 기 준 | G5: 적 용 방 법 | H5: 비 고
A7: 기본급 | E7: 통계청승인기관인 중소기업 중앙회에서 발표한 시중 노임단가 적용 | F7: =J7&"일÷10개월 ≒ "&I7&"일 본 조사에서는 일급을 기준으로 월 실근무일수를 승하여 산출하였다" -> 211일÷10개월 ≒ 21일 본 조사에서는 일급을 기준으로 월 실근무일수를 승하여 산출하였다 | G7: ="시중노임단가×"&I7&"일" -> 시중노임단가×21일 | I7: =근무일수!O7 -> 21 | J7: =근무일수!L7 -> 211
A8: 제수당 | C8: 연차수당 | E8: 근로기준법 제 60조 | F8: (연차유급휴가) 사용자는 1년간 8할이상 출근한 근로자에 대하여는 15일의 유급휴가를 주어야 한다. | G8: 기본급÷월근로시간× 일근로시간×15일/년÷12개월
A9: 상여금 | E9: 예정가격작성기준 제 26조 | F9: ="상여금은 기획재정부 계약예규 예정가격 작성기준 제26조에 의거 기본급의 연 400%를 계상하였다." -> 상여금은 기획재정부 계약예규 예정가격 작성기준 제26조에 의거 기본급의 연 400%를 계상하였다. | G9: ="기본급×"&I9&"%" -> 기본급×400% | I9: 400
A10: 퇴직급여충당금 | E10: 근로기준법 제34조 근로자퇴직급여 보장법 제8조 | F10: (퇴직금제도) 퇴직금제도를 설정하고자 하는 사용자는 계속근로기간 1년에 대하여 30일분 이상의 평균임금을 퇴직금으로 퇴직하는 근로자에게 지급할 수 있는 제도를 설정하여야 한다. | G10: (기본급+제수당+상여금)÷12개월

Sheet 근무형태
A1: < 표 : 5 >
A2: 직종별 근무형태 현황표
I4: 단위 : 인
A5: 구 분 | B5: 직 무 | C5: 투입인원 | D5: 근무형태별 투입인원 | H5: 근무형태 | I5: 비 고
D6: 주간근무 | E6: 야간근무 | F6: 휴무 | G6: 계
A7: =인건비집계!A7 -> 사무 | B7: =투입인원!B7 -> 일반사무 | C7: =투입인원!D7 -> 12 | D7: 12 | G7: =SUM(D7:F7) -> 12 | H7: 주간근무
B8: =투입인원!B8 -> 비서 | C8: =투입인원!D8 -> 1 | D8: 1 | G8: =SUM(D8:F8) -> 1 | H8: 주간근무
A9: 계 | C9: =SUM(C7:C8) -> 13 | D9: =SUM(D7:D8) -> 13 | G9: =SUM(D9:F9) -> 13
A10: ="주 1) 관리인원 : "&투입인원!A1&투입인원!A2&" 참조" -> 주 1) 관리인원 : < 표 : 6 > 적용직종 및 투입인원산정표 참조
A11: 주 2) 제시된 제안요청서 참조(평일근무 : 09:00 ~ 18:00)

Sheet 투입인원
A1: < 표 : 6 >
A2: 적용직종 및 투입인원산정표
A5: 구 분 | B5: 직 무 | C5: 단 위 | D5: 투입인원 | E5: 비 고
A7: 사무 | B7: 일반사무 | C7: 인 | D7: 12
B8: 비서 | C8: 인 | D8: 1
A9: 계 | D9: =SUM(D7:D8) -> 13
A10: 주) 제시된 제안요청서 및 현장여건을 감안하여 투입인원을 적용하였음

Sheet 근무일수
A1: < 표 : 7 >
A2: 용역기간현황표
A4: 기간 : 2016년 3월 1일 ~ 2016년 12월 31일(10개월)
A5: 구 분 | B5: 2016년 3월 1일 ~ 12월 31일 | L5: 계 | M5: 비 고
B6: 3월 | C6: 4월 | D6: 5월 | E6: 6월 | F6: 7월 | G6: 8월 | H6: 9월 | I6: 10월 | J6: 11월 | K6: 12월
A7: 평일(월~금) | B7: 22 | C7: 21 | D7: 21 | E7: 21 | F7: 21 | G7: 22 | H7: 19 | I7: 20 | J7: 22 | K7: 22 | L7: =SUM(B7:K7) -> 211 | N7: =L7/10 -> 21.1 | O7: =ROUND((L7)/10,0) -> 21
A8: 토요일 | B8: 4 | C8: 5 | D8: 3 | E8: 4 | F8: 5 | G8: 4 | H8: 4 | I8: 5 | J8: 4 | K8: 5 | L8: =SUM(B8:K8) -> 43
A9: 일요일 | B9: 4 | C9: 4 | D9: 5 | E9: 4 | F9: 5 | G9: 4 | H9: 4 | I9: 4 | J9: 4 | K9: 3 | L9: =SUM(B9:K9) -> 41
A10: 공휴일 및 명절 | B10: 1 | D10: 2 | E10: 1 | G10: 1 | H10: 3 | I10: 2 | K10: 1 | L10: =SUM(B10:K10) -> 11
A11: 계 | B11: =SUM(B7:B10) -> 31 | C11: =SUM(C7:C10) -> 30 | D11: =SUM(D7:D10) -> 31 | E11: =SUM(E7:E10) -> 30 | F11: =SUM(F7:F10) -> 31 | G11: =SUM(G7:G10) -> 31 | H11: =SUM(H7:H10) -> 30 | I11: =SUM(I7:I10) -> 31 | ... L11: =SUM(L7:L10) -> 306
A12: 주) 제시된 제안요청서 참조

Sheet 작업범위
A1: < 표 : 8 >
A2: 운영 및 업무범위
A5: 구 분 | B5: 업 무 범 위 | D5: 비 고
A6: 파견사업주의 업무 | B6: 가. | C6: 파견근로자의 원활한 공급 및 체계적 관리
B7: * | C7: 파견근로자의 입사, 퇴사, 급여 및 복리후생 관리
B8: * | C8: 파견근로자의 중도퇴사 예방을 위한 적극적 방안 마련
B9: * | C9: 파견근로자의 신원보증 및 업무 과실 책임 등
B10: 나. | C10: 근로자 파견 관련 법률 및 정보 제공
B11: 다. | C11: 파견근로자에 대한 법정교육 실시
A12: 파견근로자의 업무 | B12: 가. | C12: 일반사무
B13: 나. | C13: 비서

Sheet 간지5-2
A1: ='간지5-1'!A1 -> [ 중소기업기술정보진흥원 파견사업주 선정 ]
C7: 2. 경 비
C9: =+경비산출표!A1 -> < 표 : 9 > | D9: =+경비산출표!A2 -> 직무별 경비집계표
C10: =+보험료!A1 -> < 표 : 10 > | D10: =+보험료!A2 -> 직무별(1인) 보험료산출표
C11: =+경비산정기준!A1 -> < 표 : 11 > | D11: =+경비산정기준!A2 -> 경비산정기준표
C12: =+산재비율!A1 -> < 표 : 12 > | D12: =+산재비율!A2 -> 산업재해보상보험요율
C13: =+시내교통비!A1 -> < 표 : 13 > | D13: =+시내교통비!A2 -> 교통통신비산출표
C14: =식비!A1 -> < 표 : 14 > | D14: =식비!A2 -> 식비산출표
C26: =+유인물!A1 -> < 표 : 13 > | D26: =+유인물!A2 -> 유인물비산출표 | E26: 연구용재료비
C27: =+연구용재료비!A1 -> < 표 : 14 > | D27: =+연구용재료비!A2 -> 연구용재료비산출표 | E27: 시내교통비
C28: =+회의비!A1 -> < 표 : 18 > | D28: =+회의비!A2 -> 회의비산출표 | E28: 기타경비

Sheet 경비산출표
A1: < 표 : 9 >
A2: 직무별 경비집계표
H4: 단위 : 원/월
A5: 비 목 | E5: =투입인원!A7 -> 사무 | G5: 계 | H5: 비 고
E6: =인건비집계!B7&"(1인)" -> 일반사무(1인) | F6: =인건비집계!B8&"(1인)" -> 비서(1인)
A7: 보 험 료 | C7: =보험료!C8 -> 산재보험료 | E7: =보험료!J8 -> 0 | F7: =보험료!J24 -> 0 | G7: =SUM(E7:F7) -> 0 | H7: 주 1)
C8: =보험료!C9 -> 국민연금 | E8: =보험료!J9 -> 0 | F8: =보험료!J25 -> 0 | G8: =SUM(E8:F8) -> 0
C9: =보험료!C10 -> 고용보험료 | E9: =보험료!J10 -> 0 | F9: =보험료!J26 -> 0 | G9: =SUM(E9:F9) -> 0
C10: =보험료!C11 -> 국민건강보험료 | E10: =보험료!J11 -> 0 | F10: =보험료!J27 -> 0 | G10: =SUM(E10:F10) -> 0
C11: =보험료!C12 -> 노인장기요양보험료 | E11: =보험료!J12 -> 0 | F11: =보험료!J28 -> 0 | G11: =SUM(E11:F11) -> 0
C12: =보험료!C13 -> 임금채권보장보험료 | E12: =보험료!J13 -> 0 | F12: =보험료!J29 -> 0 | G12: =SUM(E12:F12) -> 0
A13: 교통통신비 | G13: =[103]시내교통비!H10 -> 1365000 | H13: 주2)
A14: 식비 | G14: =[103]식비!H10 -> 1819818 | H14: 주3)
A15: ="주 1) 보험료 : "&보험료!A1&보험료!A2&" 참조" -> 주 1) 보험료 : < 표 : 10 > 직무별(1인) 보험료산출표 참조
A16: ="주 2) "&A13&" : "&시내교통비!A1&시내교통비!A2&" 참조" -> 주 2) 교통통신비 : < 표 : 13 > 교통통신비산출표 참조
A17: ="주 3) "&A14&" : "&식비!A1&식비!A2&" 참조" -> 주 3) 식비 : < 표 : 14 > 식비산출표 참조

Sheet 보험료
A1: < 표 : 10 >
A2: 직무별(1인) 보험료산출표
A4: =단위당인건비!A4 -> 구분 : 사무 | E4: =단위당인건비!E4 -> 직무 : 일반사무 | K4: 단위 : 원/월
A5: 비 목 | E5: 적 용 대 상 액 주1) | I5: 비율(%) | J5: 금 액 | K5: 비 고
E6: 기본급 | F6: 제수당 | G6: 상여금 | H6: 계
I7: 주 2)
A8: 보험료 | C8: 산재보험료 | E8: =인건비집계!C7 -> 0 | F8: =인건비집계!D7 -> 0 | G8: =인건비집계!E7 -> 0 | H8: =SUM(E8:G8) -> 0 | I8: =경비산정기준!I7 -> 1 | J8: =TRUNC(H8*I8%,0) -> 0
C9: 국민연금 | E9: =E8 -> 0 | F9: =F8 -> 0 | G9: =G8 -> 0 | H9: =H8 -> 0 | I9: =경비산정기준!I8 -> 4.5 | J9: =TRUNC(H9*I9%,0) -> 0
C10: 고용보험료 | E10: =E9 -> 0 | F10: =F9 -> 0 | G10: =G9 -> 0 | H10: =H9 -> 0 | I10: =경비산정기준!I9 -> 0.9 | J10: =TRUNC(H10*I10%,0) -> 0
C11: 국민건강보험료 | E11: =E10 -> 0 | F11: =F10 -> 0 | G11: =G10 -> 0 | H11: =H10 -> 0 | I11: =경비산정기준!I10 -> 3.06 | J11: =TRUNC(H11*I11%,0) -> 0
C12: 노인장기요양보험료 | H12: =J11 -> 0 | I12: =경비산정기준!I11 -> 6.55 | J12: =TRUNC(H12*I12%,0) -> 0
C13: 임금채권보장보험료 | E13: =E9 -> 0 | F13: =F9 -> 0 | G13: =G9 -> 0 | H13: =H9 -> 0 | I13: =경비산정기준!I12 -> 0.06 | J13: =TRUNC(H13*I13%,0) -> 0
A14: 계 | J14: =SUM(J8:J13) -> 0
A15: ="주 1) 적용대상액 : "&인건비집계!$A$1&인건비집계!$A$2&" 참조" -> 주 1) 적용대상액 : < 표 : 1 > 직무별(1인) 인건비집계표 참조
A16: =" 2) 비율(%) : "&경비산정기준!$A$1&경비산정기준!$A$2&" 참조" -> 2) 비율(%) : < 표 : 11 > 경비산정기준표 참조
A18: 직무별(1인) 보험료산출표
A20: =단위당인건비!A18 -> 구분 : 사무 | E20: =단위당인건비!E18 -> 직무 : 비서 | K20: 단위 : 원/월
A21: 비 목 | E21: 적 용 대 상 액 주1) | I21: 비율(%) | J21: 금 액 | K21: 비 고
E22: 기본급 | F22: 제수당 | G22: 상여금 | H22: 계
I23: 주 2)
A24: 보험료 | C24: 산재보험료 | E24: =인건비집계!C8 -> 0 | F24: =인건비집계!D8 -> 0 | G24: =인건비집계!E8 -> 0 | H24: =SUM(E24:G24) -> 0 | I24: =I8 -> 1 | J24: =TRUNC(H24*I24%,0) -> 0
C25: 국민연금 | E25: =E24 -> 0 | F25: =F24 -> 0 | G25: =G24 -> 0 | H25: =H24 -> 0 | I25: =I9 -> 4.5 | J25: =TRUNC(H25*I25%,0) -> 0
C26: 고용보험료 | E26: =E25 -> 0 | F26: =F25 -> 0 | G26: =G25 -> 0 | H26: =H25 -> 0 | I26: =I10 -> 0.9 | J26: =TRUNC(H26*I26%,0) -> 0
C27: 국민건강보험료 | E27: =E26 -> 0 | F27: =F26 -> 0 | G27: =G26 -> 0 | H27: =H26 -> 0 | I27: =I11 -> 3.06 | J27: =TRUNC(H27*I27%,0) -> 0
C28: 노인장기요양보험료 | H28: =J27 -> 0 | I28: =I12 -> 6.55 | J28: =TRUNC(H28*I28%,0) -> 0
C29: 임금채권보장보험료 | E29: =E25 -> 0 | F29: =F25 -> 0 | G29: =G25 -> 0 | H29: =H25 -> 0 | I29: =I13 -> 0.06 | J29: =TRUNC(H29*I29%,0) -> 0
A30: 계 | J30: =SUM(J24:J29) -> 0
A31: ="주 1) 적용대상액 : "&인건비집계!$A$1&인건비집계!$A$2&" 참조" -> 주 1) 적용대상액 : < 표 : 1 > 직무별(1인) 인건비집계표 참조
A32: =" 2) 비율(%) : "&경비산정기준!$A$1&경비산정기준!$A$2&" 참조" -> 2) 비율(%) : < 표 : 11 > 경비산정기준표 참조

Sheet 경비산정기준
A1: < 표 : 11 >
A2: 경비산정기준표
A5: 비 목 | E5: 관 련 법 규 | F5: 산 정 기 준 | G5: 적 용 방 법 | H5: 비 고 | I5: %
A7: 보 험 료 | C7: 산재보험료 | E7: 고용보험 및 산업재해보상보험의보험료 징수 등에 관한법률 제14조제3항 및 동법 시행령 | F7: 고용노동부고시 제2015-101호 (2016년 1월 1일부터 시행) | G7: (기본급+제수당+상여금)×1% | H7: =산재비율!A1&" 참조" -> < 표 : 12 > 참조 | I7: 1
C8: 국민연금 | E8: 국민연금법 제88조 3항 | F8: 사업장가입자의 연금보험료중 기여금은 사업장가입자 본인이, 부담금은 사용자가 각각 부담하되, 그 금액은 각각 기준소득월액의 1천분의 45에 해당하는 금액으로 한다. | G8: (기본급+제수당+상여금)×4.5% | I8: 4.5
C9: 고용보험료 | E9: 고용보험및산업재해보상보험의보험료 징수등에관한법률 제14조 1항, 시행령 제12조 | F9: 시행령 제12조 법제14조1항의 규정에 의한 고용보험료율은 다음 각호와 같다. 1. 고용안정. 직업능력개발사업의 보험료율은 다음 각 목의 구분에 따른 보험료율 가. 상시근로자수가 150인 미만의 사업주의 사업 : 1만분의 25 나. 상시근로자수가 150인 이상의 사업주의 사업으로서 "고용보험법시행령" 제12조에 따른 우선지원 대상기업의 범위에 해당하는 사업 : 1만분의 45 다. 상시근로자수가 150인 이상 1천인 미만인 사업주의 사업으로서 나목에 해당하지 아니하는 사업 : 1만분의 65 라. 상시근로자수가 1천인 이상인 사업주의 사업으로서 나목에 해당하지 아니하는 사업 및 국가ㆍ지방자치단체가 직접 행하는 사업 : 1만분의 85 2. 실업급여의 보험율 : 1천분의 13(사업주 부담 0.65%) * 산출식 : 0.25%(고용안정.직업능력개발사업요율)+0.65%(실업급여의 보험율) | G9: (기본급+제수당+상여금)×0.9% | I9: =0.25+0.65 -> 0.9
C10: 국민건강보험료 | E10: 국민건강보험법 제77조 1항 1호, 2호 | F10: 직장가입자의 보험료는 다음 각 호의 구분에 따라 그 각 호에서 정한 자가 납부한다. 1. 보수월액보험료: 사용자. 이 경우 사업장의 사용자가 2명 이상인 때에는 그 사업장의 사용자는 해당 직장가입자의 보험료를 연대하여 납부한다. 2. 소득월액보험료: 직장가입자 국민건강보험법 제77조에 의한 보험요율의 표준보수월액의 6.12%(사용자부담 50%,근로자부담 50%) | G10: (기본급+제수당+상여금)×3.06% | I10: 3.06
C11: 노인장기요양보험료 | E11: 노인장기요양보험법 제9조 1항, 시행령 제4조 | F11: (보헙료의 납부의무) 직장가입자의 보험료는 사용자가 납부한다. 노인장기요양보험법에 의한 보험요율은 국민건강보험료의 6.55% | G11: 산출건강보험료 × 6.55% | I11: 6.55
C12: 임금채권보장보험료 | E12: 임금채권보장법 제9조 2항 시행령 제13조 | F12: 노동부고시 제2015-95호(2016년 1월 1일부터 시행)의 규정에 의하여 임금채권보장기금 사업주부담금비율은 0.6/1000(전업종공통) | G12: (기본급+제수당+상여금)×0.06% | I12: 0.06
A13: 주) 보험료 산출기준 : 해당 비목별 2016년 현재 해당보험료 고시율을 기준하였으며 해당년도 고시율 적용시에는 원가 수정을 전제 함.

Sheet 산재비율
A1: < 표 : 12 >
A2: 산업재해보상보험요율
G4: (단위 : 1000분율)
B5: 사 업 종 류 | D5: 요율 | F5: 사 업 종 류 | G5: 요율
B6: 1. 광업 | F6: 계량기·광학기계·기타정밀 기구제조업 | G6: 9
B7: 석탄광업 | D7: 340 | F7: 수제품 제조업 | G7: 16
B8: 금속 및 비금속 광업 | D8: 77 | F8: 기타제조업 | G8: 28
B9: 채 석 업 | D9: 325 | F9: 3. 전기·가스·증기 및 수도사업 | G9: 10
B10: 석회석광업 | D10: 76 | F10: 4. 건 설 업 | G10: 38
B11: 기타 광업 | D11: 71 | F11: 5. 운수창고 및 통신업
B12: 2. 제조업 | F12: 철도궤도 및 삭도운수업 | G12: 9
B13: 식료품제조업 | D13: 19 | F13: 여객자동차운수업 | G13: 19
B14: 담배제조업 | D14: 8 | F14: 소형화물운수업 및 택배업, 퀵서비스업 | G14: 28
B15: 섬유 또는 섬유제품제조업(갑) | D15: 13 | F15: 화물자동차운수업 | G15: 66
B16: 섬유 또는 섬유제품제조업(을) | D16: 20 | F16: 수상운수업, 항만하역 및 화물 | G16: 29
B17: 목재 및 나무제품 제조업 | D17: 44 | F17: 취급사업
B18: 펄프․지류제조업 및 제본 또는 | D18: 24 | F18: 항공운수업 | G18: 9
B19: 인쇄물 가공업 | F19: 운수관련 서비스업 | G19: 9
B20: 신문·화폐발행, 출판업 및 인쇄업 | D20: 12 | F20: 창 고 업 | G20: 14
B21: 화학제품 제조업 | D21: 17 | F21: 통 신 업 | G21: 11
B22: 의약품 및 화장품 향료 제조업 | D22: 9 | F22: 6. 임 업 | G22: 89
B23: 코크스, 연탄 및 석유정제품 제조업 | D23: 12 | F23: 7. 어 업
B24: 고무제품 제조업 | D24: 21 | F24: 어업 | G24: 130
B25: 유리 제조업 | D25: 29 | F25: 양식어업 및 어업관련 서비스업 | G25: 30
B26: 도자기 및 기타 요업제품 제조업 | D26: 15 | F26: 8. 농 업 | G26: 27
B27: 시멘트 제조업 | D27: 29 | F27: 9. 기타의 사업
B28: 비금속광물제품 및 금속제품 | D28: 37 | F28: 건물등의 종합관리사업 | G28: 17
B29: 제조업 또는 금속가공업 | F29: 위생 및 유사서비스업 | G29: 32
B30: 금속제련업 | D30: 11 | F30: 기타의 각종사업 | G30: 10
B31: 금속재료품 제조업 | D31: 33 | F31: 전문기술서비스업 | G31: 9
B32: 도 금 업 | D32: 18 | F32: 보건 및 사회복지사업 | G32: 9
B33: 기계기구 제조업 | D33: 19 | F33: 교육서비스업 | G33: 7
B34: 전기기계기구 제조업 | D34: 11 | F34: 도소매 및 소비자용품수리업 | G34: 7
B35: 전자제품 제조업 | D35: 7 | F35: 부동산업 및 임대업 | G35: 7
B36: 선박건조 및 수리업 | D36: 25 | F36: 오락 문화 및 운동관련 사업 | G36: 10
B37: 수송용기계기구 제조업 | D37: 16 | F37: 국가 및 지방자치 단체의 행정 | G37: 8
B38: 자동차 및 모터사이클 수리업 | D38: 17 | F38: 10. 금융 보험업 | G38: 7
F39: * 해외파견자 : 17/1000
B40: 주) 고용노동부 고시 제2015-101호(2016년 1월 1일부터 시행)

Sheet 시내교통비
A1: < 표 : 13 >
A2: 교통통신비산출표
I4: 단위 : 원/월
A5: 비 목 | C5: 직 종 명 | E5: 단위 | F5: 수량 | G5: 단 가 | H5: 금 액 | I5: 비 고
F6: 주 1) | G6: 주 2)
A7: 교통비 | C7: 일반사무 | E7: 인 | F7: =TRUNC(J7*K7,0) -> 252 | G7: 5000 | H7: =G7*F7 -> 1260000 | I7: =""&J7&"인×"&K7&"일/월" -> 12인×21일/월 | J7: =투입인원!D7 -> 12 | K7: =근무일수!O7 -> 21
C8: 비서 | E8: 인 | F8: =TRUNC(J8*K8,0) -> 21 | G8: 5000 | H8: =G8*F8 -> 105000 | I8: =""&J8&"인×"&K8&"일/월" -> 1인×21일/월 | J8: =투입인원!D8 -> 1 | K8: =K7 -> 21
A10: 계 | H10: =SUM(H7:H9) -> 1365000
A11: 주 1) 수량 : 제시된 제안요청서에 의거하여 산출하였음
A12: =" 2) 단가 : 시중유통거래가격 참조" -> 2) 단가 : 시중유통거래가격 참조

Sheet 식비
A1: < 표 : 14 >
A2: 식비산출표
I4: 단위 : 원/월
A5: 비 목 | C5: 직 종 명 | E5: 단위 | F5: 수량 | G5: 단 가 | H5: 금 액 | I5: 비 고
F6: 주 1) | G6: 주 2)
A7: 식비 | C7: 일반사무 | E7: 인 | F7: =TRUNC(J7*K7,0) -> 252 | G7: 6666 | H7: =G7*F7 -> 1679832 | I7: =""&J7&"인×"&K7&"일/월" -> 12인×21일/월 | J7: =시내교통비!J7 -> 12 | K7: =시내교통비!K7 -> 21
C8: 비서 | E8: 인 | F8: =TRUNC(J8*K8,0) -> 21 | G8: 6666 | H8: =G8*F8 -> 139986 | I8: =""&J8&"인×"&K8&"일/월" -> 1인×21일/월 | J8: =시내교통비!J8 -> 1 | K8: =시내교통비!K8 -> 21
A10: 계 | H10: =SUM(H7:H9) -> 1819818
A11: 주 1) 수량 : 제시된 제안요청서에 의거하여 산출하였음
A12: =" 2) 단가 : 시중유통거래가격 참조" -> 2) 단가 : 시중유통거래가격 참조

Sheet 간지5-3
A1: ='간지5-2'!A1 -> [ 중소기업기술정보진흥원 파견사업주 선정 ]
C10: 3. 일반관리비
C12: =+일반!A1 -> < 표 : 15 > | D12: =+일반!A2 -> 일반관리비산출표
C13: =+일반비율!A1 -> < 표 : 16 > | D13: =+일반비율!A2 -> 일반관리비율산출표

Sheet 일반
A1: < 표 : 15 >
A2: 일반관리비산출표
F4: 단위 : 원/월
A5: 구 분 | B5: 적 용 대 상 액 | E5: 비율(%) | F5: 금 액 | G5: 비 고
B6: 인건비 | C6: 경 비 | D6: 계
B7: 주 1) | C7: 주 2) | E7: 주 3)
A8: =투입인원!A7 -> 사무 | B8: =원가계산!L10 -> 0 | C8: =원가계산!L19 -> 0 | D8: =SUM(B8:C8) -> 0 | E8: =일반비율!E17 -> 8 | F8: =TRUNC(D8*E8%,0) -> 0
A10: =B7&" " &B6&" : "&원가계산!A1&" 참조" -> 주 1) 인건비 : Ⅳ. 용역원가계산서 참조
A11: =" 2) 경비 : "&원가계산!A1&" 참조" -> 2) 경비 : Ⅳ. 용역원가계산서 참조
A12: =" 3) 비율(%) : "&일반비율!A1&""&일반비율!A2&" 참조" -> 3) 비율(%) : < 표 : 16 > 일반관리비율산출표 참조

Sheet 일반비율
A1: < 표 : 16 >
A2: 일반관리비율산출표
A4: 1. 예규기준과 기업경영분석자료 비교
B5: 비 목 | E5: 계약예규기준(%) | F5: 기업경영분석 자료(백만원) | G5: 비 고
B7: 1) | C7: 매출원가 | G7: 주 1)
B8: 2) | C8: 동기간의 일반관리비
B9: - | C9: 판매비와일반관리비
B10: - | C10: 불인금액
C11: ① 접대비
C12: ② 광고선전비
C13: ③ 대손상각비
C14: ④ 무형자산상각비
C15: ⑤ 기타판매비와관리비
B17: 3) | C17: 일반관리비율(%) | E17: 8 | F17: =TRUNC(F8/F7*100,2) -> #DIV/0! | G17: 주 2)
A18: ="주 1) 금액 : "&기업!A1&기업!A2&"중 손익계산서 참조" -> 주 1) 금액 : < 표 : 19 > 기업경영분석자료중 손익계산서 참조
A19: 2) 일반관리비율 = (동기간의 일반관리비 ÷ 매출원가) × 100
A21: 2. 일반관리비율 적용비율
A22: =" 국가를 당사자로 하는 계약에 관한 법률 시행규칙 제8조에 의한 '행사관리 및 그 밖의 사업지원" -> 국가를 당사자로 하는 계약에 관한 법률 시행규칙 제8조에 의한 '행사관리 및 그 밖의 사업지원
A23: =" 용역'의 일반관리비 비율 적용 한도율은 "&E17&"%이며, 기업경영분석자료 비율은 "&F17&"%로 발생되어" -> #DIV/0!
A24: =" 본 원가산출시 적용 일반관리비율은 "&MIN(E17,F17)&"%를 적용하였다." -> #DIV/0!

Sheet 간지5-4
A1: ='간지5-3'!A1 -> [ 중소기업기술정보진흥원 파견사업주 선정 ]
C10: 4. 이 윤
C12: =+이윤!A1 -> < 표 : 17 > | D12: =+이윤!A2 -> 이윤산출표
C13: =+이윤율!A1 -> < 표 : 18 > | D13: =+이윤율!A2 -> 이윤비율표

Sheet 이윤
A1: < 표 : 17 >
A2: 이윤산출표
G4: 단위 : 원/월
A5: 구 분 | B5: 적 용 대 상 액 | F5: 비율(%) | G5: 금 액 | H5: 비 고
B6: 인건비 | C6: 경 비 | D6: 일반관리비 | E6: 계
B7: 주 1) | C7: 주 2) | D7: 주 3) | F7: 주 4)
A8: =일반!A8 -> 사무 | B8: =일반!B8 -> 0 | C8: =일반!C8 -> 0 | D8: =일반!F8 -> 0 | E8: =SUM(B8:D8) -> 0 | F8: =이윤율!E9 -> 10 | G8: =TRUNC(E8*F8%,0) -> 0
A10: =B7&" "&B6&" : "&원가계산!A1&" 참조" -> 주 1) 인건비 : Ⅳ. 용역원가계산서 참조
A11: =" 2) 경비 : "&원가계산!A1&" 참조" -> 2) 경비 : Ⅳ. 용역원가계산서 참조
A12: =" 3) 일반관리비 : "&일반!A1&일반!A2&" 참조" -> 3) 일반관리비 : < 표 : 15 > 일반관리비산출표 참조
A13: =" 4) 비율(%) : "&이윤율!A1&이윤율!A2&" 참조" -> 4) 비율(%) : < 표 : 18 > 이윤비율표 참조

Sheet 이윤율
A1: < 표 : 18 >
A2: 이윤비율표
B5: 구 분 | D5: 계약예규기준 비율(%) | E5: 조사적용 비율(%) | F5: 비 고
B7: 시설공사 | D7: 15
B8: 제조,구매 | D8: 25
B9: 용역 | D9: 10 | E9: 10
B10: 수입물품의구입 | D10: 10
A12: 주) 예정가격 작성기준(기획재정부계약예규 제281호, 2016.1.1) 제28조 참조

Sheet 간지5-5
A1: ='간지5-4'!A1 -> [ 중소기업기술정보진흥원 파견사업주 선정 ]
C10: 5. 기업경영분석자료
C12: =+기업!A1 -> < 표 : 19 > | D12: =+기업!A2 -> 기업경영분석자료

Sheet 기업
A1: < 표 : 19 >
A2: 기업경영분석자료
A4: * 손익계산서 | H4: 단위 : 백만원
A5: CODE NO. | D5: 내역 | F5: 금 액 | G5: 구성비(%) | H5: 비 고
B6: 21 | D6: 매출액 | F6: 20209476 | G6: =ROUND(F6/$F$6,4) -> 1
B7: 22 | D7: 매출원가 | F7: 8833295 | G7: =ROUND(F7/$F$6,4) -> 0.4371
B8: 23 | D8: 매출총손익 | F8: =F6-F7 -> 11376181 | G8: =ROUND(F8/$F$6,4) -> 0.5629
B9: 241 | D9: 판매비와일반관리비 | F9: =SUM(F10:F22)-1 -> 10987691 | G9: =ROUND(F9/$F$6,4) -> 0.5437
B10: 24101 | D10: 급여 | F10: 5314400 | G10: =ROUND(F10/$F$6,4) -> 0.263
B11: 24102 | D11: 퇴직급여 | F11: 339379 | G11: =ROUND(F11/$F$6,4) -> 0.0168
B12: 24103 | D12: 복리후생비 | F12: 498305 | G12: =ROUND(F12/$F$6,4) -> 0.0247
B13: 24105 | D13: 세금과공과 | F13: 145774 | G13: =ROUND(F13/$F$6,4) -> 0.0072
B14: 24106 | D14: 임차료 | F14: 342061 | G14: =ROUND(F14/$F$6,4) -> 0.0169
B15: 24107 | D15: 감가상각비 | F15: 137407 | G15: =ROUND(F15/$F$6,4) -> 0.0068
B16: 24108 | D16: 접대비 | F16: 101732 | G16: =ROUND(F16/$F$6,4) -> 0.005 | H16: 불 인 금 액
B17: 24109 | D17: 광고선전비 | F17: 228667 | G17: =ROUND(F17/$F$6,4) -> 0.0113 | H17: "
B18: 24110 | D18: 경상개발비.연구비 | F18: 44119 | G18: =ROUND(F18/$F$6,4) -> 0.0022
B19: 24111 | D19: 보험료 | F19: 108007 | G19: =ROUND(F19/$F$6,4) -> 0.0053
B20: 24113 | D20: 대손상각비 | F20: 20847 | G20: =ROUND(F20/$F$6,4) -> 0.001 | H20: 불 인 금 액
B21: 24114 | D21: 무형자산상각비 | F21: 30834 | G21: =ROUND(F21/$F$6,4) -> 0.0015 | H21: "
B22: 24116 | D22: 기타판매비와관리비 | F22: 3676160 | G22: =ROUND(F22/$F$6,4) -> 0.1819 | H22: "
B23: 24 | D23: 영업손익 | F23: =F8-F9 -> 388490 | G23: =ROUND(F23/$F$6,4) -> 0.0192
B24: 251 | D24: 영업외수익 | F24: =SUM(F25:F31)+1 -> 476991 | G24: =ROUND(F24/$F$6,4) -> 0.0236
B25: 25101 | D25: 이자수익 | F25: 116839 | G25: =ROUND(F25/$F$6,4) -> 0.0058
B26: 25102 | D26: 배당금수익 | F26: 21921 | G26: =ROUND(F26/$F$6,4) -> 0.0011
B27: 25103 | D27: 외환차익 | F27: 38918 | G27: =ROUND(F27/$F$6,4) -> 0.0019
B28: 25104 | D28: 외화환산이익 | F28: 13992 | G28: =ROUND(F28/$F$6,4) -> 0.0007
B29: 25107 | D29: 투자.유형자산처분이익 | F29: 72851 | G29: =ROUND(F29/$F$6,4) -> 0.0036
B30: 25108 | D30: 지분법평가이익 | F30: 49990 | G30: =ROUND(F30/$F$6,4) -> 0.0025
B31: 25109 | D31: 기타영업외수익 | F31: 162479 | G31: =ROUND(F31/$F$6,4) -> 0.008
B32: 252 | D32: 영업외비용 | F32: =SUM(F33:F38) -> 1019514 | G32: =ROUND(F32/$F$6,4) -> 0.0504
B33: 25201 | D33: 이자비용 | F33: 220425 | G33: =ROUND(F33/$F$6,4) -> 0.0109
B34: 25202 | D34: 외환차손 | F34: 28710 | G34: =ROUND(F34/$F$6,4) -> 0.0014
B35: 25203 | D35: 외화환산손실 | F35: 10715 | G35: =ROUND(F35/$F$6,4) -> 0.0005
B36: 25206 | D36: 투자.유형자산처분손실 | F36: 42677 | G36: =ROUND(F36/$F$6,4) -> 0.0021
B37: 25207 | D37: 지분법평가손실 | F37: 206920 | G37: =ROUND(F37/$F$6,4) -> 0.0102
B38: 25209 | D38: 기타영업외비용 | F38: 510067 | G38: =ROUND(F38/$F$6,4) -> 0.0252
B39: 25 | D39: 법인세비용차감전순손익 | F39: =F23+F24-F32-1 -> -154034 | G39: =ROUND(F39/$F$6,4) -> -0.0076
B40: 261 | D40: 법인세비용 | F40: 139564 | G40: =ROUND(F40/$F$6,4) -> 0.0069
B41: 28 | D41: 당기순손익 | F41: =F39-F40 -> -293598 | G41: =ROUND(F41/$F$6,4) -> -0.0145
A42: 주) 2015년 한국은행발간 기업경영분석자료 CODE NO. N759『기타 사업지원서비스업』참조

Sheet 제외

Sheet 유인물
A1: < 표 : 13 >
A2: 유인물비산출표
J4: 단위 : 원/월
A5: 구 분 | C5: 품명 | E5: 규 격 | F5: 단위 | G5: 수량 | H5: 단 가 | I5: 금 액 | J5: 산 출 내 역
G6: 주 1) | H6: 주 2)
A7: 1. 월간보고서 제작비 | J7: ="(10절기준, "&K8&"page, "&L8&"부)" -> (10절기준, 30page, 3부)
C8: 복사비 | E8: 4×6배판, 흑백 | F8: page | G8: =SUM(K8*L8*M8%) -> 85.5 | H8: 30 | I8: =G8*H8 -> 2565 | J8: =""&K8&"page×"&L8&"부×"&M8&"%" -> 30page×3부×95% | K8: 30 | L8: 3 | M8: 95
C9: 복사비 | E9: 4×6배판, 칼라 | F9: page | G9: =SUM(K9*L9*M9%) -> 4.5 | H9: 150 | I9: =G9*H9 -> 675 | J9: =""&K9&"page×"&L9&"부×"&M9&"%" -> 30page×3부×5% | K9: =K8 -> 30 | L9: =L8 -> 3 | M9: 5
C10: 제본비 | E10: 코팅표지 | F10: 부 | G10: =L8 -> 3 | H10: 2500 | I10: =G10*H10 -> 7500 | J10: =""&L8&"부" -> 3부
A12: 2. 자료복사비
C13: 복사비 | E13: A4, 흑백 | F13: page | G13: =SUM(K13*L13) -> 500 | H13: 30 | I13: =G13*H13 -> 15000 | J13: =""&K13&"장 × "&L13&"개월" -> 500장 × 1개월 | K13: 500 | L13: 1
A15: 계 | I15: =SUM(I7:I14) -> 25740
A16: 주 1) 수량 : 제시된 제안요청서를 기준으로 산출하였음
A17: 2) 단가 : 시중유통거래가격 참조

Sheet 연구용재료비
A1: < 표 : 14 >
A2: 연구용재료비산출표
G4: 단위 : 원/월
A5: 품 명 | B5: 규 격 | C5: 단위 | D5: 수량 | E5: 단 가 | F5: 금 액 | G5: 비 고
D6: 주 1) | E6: 주 2)
A7: 칼라집게 | B7: 中 | C7: EA | D7: =J7 -> 10 | E7: 180 | F7: =TRUNC(D7*E7,0) -> 1800 | I7: 시중가격 | J7: =ROUND(E11/2000,-1) -> 10 | K7: 2000장당 집개 1EA씩 사용
A8: 바인더 | B8: 2공, 3공, 4공 | C8: 권 | D8: =J8 -> 1 | E8: 3550 | F8: =TRUNC(D8*E8,0) -> 3550 | I8: 물자51(하) | J8: =ROUND((H12*I12)/2500,0) -> 1 | K8: 2500장당 바인더 1EA씩 사용
A9: 일반Post-it | B9: 653 3M | C9: EA | D9: =K9 -> 7 | E9: 1318 | F9: =TRUNC(D9*E9,0) -> 9226 | I9: 물자51(하) | J9: 월1인당 1개 | K9: 7
A10: CD-R | B10: SKC CD-R | C10: 장 | D10: 1 | E10: 1000 | F10: =TRUNC(D10*E10,0) -> 1000 | I10: 시중가격 | J10: 1
A11: 프린터용지 | B11: A4(2,500매) | C11: BOX | D11: =SUM(I11*J11) -> 1 | E11: 20909 | F11: =TRUNC(D11*E11,0) -> 20909 | G11: =" "&I11&"BOX/월×"&J11&"개월" -> 1BOX/월×1개월 | I11: 1 | J11: 1 | L11: 물자52(하)
A12: 프린터 토너 | B12: CLX-3307W용 | C12: EA | D12: =TRUNC(H12*I12/J12,2) -> 0.25 | E12: 180000 | F12: =TRUNC(D12*E12,0) -> 45000 | G12: =" "&FIXED(D11,1)&"BOX×2,500매÷10,000매/EA" -> 1.0BOX×2,500매÷10,000매/EA | H12: =D11 -> 1 | I12: 2500 | J12: 10000 | L12: 시중가격 | N12: 253870
A14: 계 | F14: =SUM(F7:F13) -> 81485
A15: 주 1) 수량 : 당해 업무내용과 관련하여 필요한 소모성 재료비를 산정하였음
A16: 2) 단가 : 물가지가격 및 시중유통거래가격 참조

Sheet 회의비
A1: < 표 : 18 >
A2: 회의비산출표
G4: 단위 : 원/월
A5: 비 목 | B5: 규 격 | C5: 단위 | D5: 수량 | E5: 단 가 | F5: 금 액 | G5: 비 고
D6: 주 1) | E6: 주 2)
A7: 교육비 | B7: 업무회의 및 교육훈련 | C7: 회 | D7: =H7*I7 -> 2 | E7: 20000 | F7: =TRUNC(D7*E7,0) -> 40000 | G7: =""&H7&"인×"&I7&"회/월" -> 2인×1회/월 | H7: 2 | I7: 1 | L7: 교육비?
A9: 계 | F9: =SUM(F7:F8) -> 40000
A10: 주 1) 수량 : 제시된 제안요청서 참조
A11: 2) 단가 : 시중유통거래가격 참조
